BEGIN:VCALENDAR
VERSION:2.0
PRODID:-//Black Hills Information Security, Inc. - ECPv6.15.20//NONSGML v1.0//EN
CALSCALE:GREGORIAN
METHOD:PUBLISH
X-ORIGINAL-URL:https://www.blackhillsinfosec.com
X-WR-CALDESC:Events for Black Hills Information Security, Inc.
REFRESH-INTERVAL;VALUE=DURATION:PT1H
X-Robots-Tag:noindex
X-PUBLISHED-TTL:PT1H
BEGIN:VTIMEZONE
TZID:America/New_York
BEGIN:DAYLIGHT
TZOFFSETFROM:-0500
TZOFFSETTO:-0400
TZNAME:EDT
DTSTART:20210314T070000
END:DAYLIGHT
BEGIN:STANDARD
TZOFFSETFROM:-0400
TZOFFSETTO:-0500
TZNAME:EST
DTSTART:20211107T060000
END:STANDARD
BEGIN:DAYLIGHT
TZOFFSETFROM:-0500
TZOFFSETTO:-0400
TZNAME:EDT
DTSTART:20220313T070000
END:DAYLIGHT
BEGIN:STANDARD
TZOFFSETFROM:-0400
TZOFFSETTO:-0500
TZNAME:EST
DTSTART:20221106T060000
END:STANDARD
BEGIN:DAYLIGHT
TZOFFSETFROM:-0500
TZOFFSETTO:-0400
TZNAME:EDT
DTSTART:20230312T070000
END:DAYLIGHT
BEGIN:STANDARD
TZOFFSETFROM:-0400
TZOFFSETTO:-0500
TZNAME:EST
DTSTART:20231105T060000
END:STANDARD
END:VTIMEZONE
BEGIN:VEVENT
DTSTART;TZID=America/New_York:20220720T120000
DTEND;TZID=America/New_York:20220720T160000
DTSTAMP:20260419T184736
CREATED:20220627T205029Z
LAST-MODIFIED:20230209T184749Z
UID:10000812-1658318400-1658332800@www.blackhillsinfosec.com
SUMMARY:HackerOps w/ Ralph May
DESCRIPTION:To conduct an advanced attack\, you need more than just a collection of simple scripts. In addition to talent\, you need a large amount of managed and unmanaged code. The more code and resources that are required to conduct an engagement\, the more time we need. Time is something we don’t have a lot of on an engagement. \nToday\, to be an advanced and effective attacker\, you need to move fast\, and that speed requires a move to a DevOps style of managing infrastructure and code. With cloud resources and APIs to manage these resources\, the days of manual setup are long behind us. \nWhere do we get started? And how does it all work? \nIn this training\, we learn the fundamentals of DevOps and how we can code our TTPs. Coding TTPs allows for new tactics and improved OPSEC to be shared without the cost of knowledge transfer and manual setup. This class will introduce students to Terraform Ansible and Docker with the goal of writing TTPs to use and share. \nIn this class\, we will learn the fundamentals of Terraform Ansible and Docker with an emphasis on how we can use these tools to code our TTPs. After we have the fundamentals\, we will start coding and get comfortable with YAML and will review how to create resources and customize TTPs. Lastly\, we will work through multiple labs and examples that you can take with you for your next engagement. \nhttps://www.antisyphontraining.com/hackerops-w-ralph-may/
URL:https://www.blackhillsinfosec.com/event/hackerops/2022-07-20/
LOCATION:MD
CATEGORIES:Training
ATTACH;FMTTYPE=image/png:https://www.blackhillsinfosec.com/wp-content/uploads/2022/06/hackerops-Training-Graphics.png
END:VEVENT
BEGIN:VEVENT
DTSTART;TZID=America/New_York:20220720T120000
DTEND;TZID=America/New_York:20220720T160000
DTSTAMP:20260419T184736
CREATED:20220628T204403Z
LAST-MODIFIED:20220628T210612Z
UID:10000625-1658318400-1658332800@www.blackhillsinfosec.com
SUMMARY:Incident Response Foundations w/ Derek Banks
DESCRIPTION:Are you just getting started with Incident Response (IR) and not sure where to begin? Do you need to stand up an IR program or establish a Computer Security and Incident Response Team and need to get started on the right foot? \nIncident Response can be one of the most difficult aspects of Information Security and foundational skills are critical. \nThe goal of this course is to provide the core components that make up a successful Incident Response program. Students will learn how to get started on their IR journey\, what to prioritize\, and why boring stuff like policies and procedures are just as important as technical digital forensics skills. \nWe will cover the logging and monitoring capabilities necessary to be able to successfully investigate and triage an incident as well as what to do when those log sources fail. The concepts and skills introduced in this class will lay the groundwork for the next steps in the IR journey of in-depth endpoint and network forensics and analysis. \nhttps://www.antisyphontraining.com/incident-response-foundations-w-derek-banks/
URL:https://www.blackhillsinfosec.com/event/incident-response-foundations-w-derek-banks/2022-07-20/
LOCATION:MD
CATEGORIES:Training
END:VEVENT
BEGIN:VEVENT
DTSTART;TZID=America/New_York:20220720T120000
DTEND;TZID=America/New_York:20220720T160000
DTSTAMP:20260419T184736
CREATED:20220628T204648Z
LAST-MODIFIED:20220628T204648Z
UID:10000627-1658318400-1658332800@www.blackhillsinfosec.com
SUMMARY:Foundational Application Security Training w/ Kevin Johnson
DESCRIPTION:The Foundational Application Security Training (FAST) course is an 8-hour class focused on explaining the fundamentals of applications and their security. This lecture-focused class is designed to allow managers\, product owners\, support staff and non-developers understand application security. This lecture includes what makes up the various modern application technologies\, the application development process\, what vulnerabilities and risk are exposed via applications and how the attacks happen. This course will enable organizations to improve how they focus on application security while continuing to increase the coordination between the various teams including development\, project management\, product owners\, IT\, and security. Attendees will be able to understand and explain the various risks and controls within a secure modern application environment. \n\n\n\nhttps://www.antisyphontraining.com/foundational-application-security-training/
URL:https://www.blackhillsinfosec.com/event/foundational-application-security-training-w-kevin-johnson/2022-07-20/
LOCATION:MD
CATEGORIES:Training
ATTACH;FMTTYPE=image/png:https://www.blackhillsinfosec.com/wp-content/uploads/2022/06/Foundational_Application_Security_Training-1536x864-1.png
END:VEVENT
BEGIN:VEVENT
DTSTART;TZID=America/New_York:20220720T163000
DTEND;TZID=America/New_York:20220720T173000
DTSTAMP:20260419T184736
CREATED:20220624T204221Z
LAST-MODIFIED:20220920T184909Z
UID:10000459-1658334600-1658338200@www.blackhillsinfosec.com
SUMMARY:AASLR: Antisyphon Address Space Layout Randomization
DESCRIPTION:AASLR will have infosec professionals sharing their knowledge on tools\, techniques\, and procedures and then answering a lot of your questions on everything you can think to ask. \nStreamed live every Tuesday and Wednesday @ 4:30 pm. \nhttps://www.twitch.tv/antisyphon
URL:https://www.blackhillsinfosec.com/event/aaslr-antisyphon-address-space-layout-randomization/2022-07-20/
LOCATION:MD
CATEGORIES:Livestream
ATTACH;FMTTYPE=image/png:https://www.blackhillsinfosec.com/wp-content/uploads/2022/06/antisyphon_livestream_v1.png
END:VEVENT
END:VCALENDAR