BEGIN:VCALENDAR
VERSION:2.0
PRODID:-//Black Hills Information Security, Inc. - ECPv6.15.20//NONSGML v1.0//EN
CALSCALE:GREGORIAN
METHOD:PUBLISH
X-ORIGINAL-URL:https://www.blackhillsinfosec.com
X-WR-CALDESC:Events for Black Hills Information Security, Inc.
REFRESH-INTERVAL;VALUE=DURATION:PT1H
X-Robots-Tag:noindex
X-PUBLISHED-TTL:PT1H
BEGIN:VTIMEZONE
TZID:America/New_York
BEGIN:DAYLIGHT
TZOFFSETFROM:-0500
TZOFFSETTO:-0400
TZNAME:EDT
DTSTART:20210314T070000
END:DAYLIGHT
BEGIN:STANDARD
TZOFFSETFROM:-0400
TZOFFSETTO:-0500
TZNAME:EST
DTSTART:20211107T060000
END:STANDARD
BEGIN:DAYLIGHT
TZOFFSETFROM:-0500
TZOFFSETTO:-0400
TZNAME:EDT
DTSTART:20220313T070000
END:DAYLIGHT
BEGIN:STANDARD
TZOFFSETFROM:-0400
TZOFFSETTO:-0500
TZNAME:EST
DTSTART:20221106T060000
END:STANDARD
BEGIN:DAYLIGHT
TZOFFSETFROM:-0500
TZOFFSETTO:-0400
TZNAME:EDT
DTSTART:20230312T070000
END:DAYLIGHT
BEGIN:STANDARD
TZOFFSETFROM:-0400
TZOFFSETTO:-0500
TZNAME:EST
DTSTART:20231105T060000
END:STANDARD
END:VTIMEZONE
BEGIN:VEVENT
DTSTART;TZID=America/New_York:20220831T080000
DTEND;TZID=America/New_York:20220831T140000
DTSTAMP:20260419T141857
CREATED:20220719T221156Z
LAST-MODIFIED:20230209T223825Z
UID:10000942-1661932800-1661954400@www.blackhillsinfosec.com
SUMMARY:Active Defense & Cyber Deception w/ John Strand
DESCRIPTION:Register: https://www.antisyphontraining.com/active-defense-cyber-deception-w-john-strand/ \nActive Defenses have been capturing a large amount of attention in the media lately. There are those who thirst for vengeance and want to directly attack the attackers. There are those who believe that any sort of active response directed at an attacker is wrong. We believe the answer is somewhere in between. \nIn this class\, you will learn how to force an attacker to take more moves to attack your network. These moves may increase your ability to detect them. You will learn how to gain better attribution as to who is attacking you and why. You will also find out how to get access to a bad guy’s system. And most importantly\, you will find out how to do the above legally. \nThe current threat landscape is shifting. Traditional defenses are failing us. We need to develop new strategies to defend ourselves. Even more importantly\, we need to better understand who is attacking us and why. Some of the things we talk about you may implement immediately\, others may take you a while to implement. Either way\, consider what we discuss as a collection of tools at your disposal when you need them to annoy attackers\, attribute who is attacking you\, and finally\, attack the attackers. \nThis class is based on the DARPA funded Active Defense Harbinger Distribution live Linux environment. This VM is built from the ground up for defenders to quickly implement Active Defenses in their environments. This class is also very heavy with hands-on labs. We will not just talk about Active Defenses. We will be doing hands-on labs and through them in a way that can be quickly and easily implemented in your environment.
URL:https://www.blackhillsinfosec.com/event/active-defense-cyber-deception-w-john-strand/2022-08-31/
LOCATION:MD
CATEGORIES:Pay What You Can,Training
ATTACH;FMTTYPE=image/jpeg:https://www.blackhillsinfosec.com/wp-content/uploads/2022/07/ActDefCybDecept_1920x1080.jpg
END:VEVENT
BEGIN:VEVENT
DTSTART;TZID=America/New_York:20220831T110000
DTEND;TZID=America/New_York:20220831T160000
DTSTAMP:20260419T141857
CREATED:20220719T221554Z
LAST-MODIFIED:20220719T221636Z
UID:10000784-1661943600-1661961600@www.blackhillsinfosec.com
SUMMARY:Advanced Endpoint Investigations w/ Alissa Torres
DESCRIPTION:For most security teams\, high operational tempo (measured in dumpster fire lumens) incentivizes analysts to stick to well-tailored playbooks that prioritize remediation at the expense of proper incident scoping and root cause analysis. Though modern endpoint security products have significantly improved host visibility\, most critical incidents will require the acquisition and analysis of additional endpoint data. This course focuses on four core investigative competencies: endpoint data collection\, investigative triage\, incident response pivots\, and root cause analysis. \nAfter learning about key endpoint artifact and memory analysis techniques for Windows and Linux\, attendees will work through real-world scenarios in hands-on labs. We’ll pivot from initial detection into host triage analysis to discern attackers’ discovery\, defense evasion and lateral movement techniques. Attendees will learn to identify key indicators for the generation of high-fidelity detections. \n\n\n\nhttps://www.antisyphontraining.com/advanced-endpoint-investigations-w-alissa-torres/
URL:https://www.blackhillsinfosec.com/event/advanced-endpoint-investigations-w-alissa-torres-2/2022-08-31/
LOCATION:MD
CATEGORIES:Training
ATTACH;FMTTYPE=image/png:https://www.blackhillsinfosec.com/wp-content/uploads/2022/07/advanced-endpoint-investigations-graphic-1536x864-1.png
END:VEVENT
BEGIN:VEVENT
DTSTART;TZID=America/New_York:20220831T120000
DTEND;TZID=America/New_York:20220831T160000
DTSTAMP:20260419T141857
CREATED:20220719T221938Z
LAST-MODIFIED:20221206T205239Z
UID:10000698-1661947200-1661961600@www.blackhillsinfosec.com
SUMMARY:Enterprise Security for All w/ Bob Hewitt & Rich Fifarek
DESCRIPTION:Register: https://www.antisyphontraining.com/enterprise-security-for-all-w-bob-hewitt-rich-fifarek/ \nThis 16-hour Information Security training class is targeted for newly appointed or dual-roled (your primary job + security) security professionals within a Small or Medium Business (SMB) or similar sized organization. \nSMBs and organizations face unique challenges in Information Security yet are often presented with solutions that may be out of reach due to cost\, time\, and staffing. We believe Information Security should be accessible and achievable by any organization\, regardless of their size. \nThis course will walk the student through real-world examples\, demonstrating how to prevent and defend against these threats\, utilizing widely adopted frameworks\, while focusing on simpler and more affordable solutions. \nThe course includes a virtual machine image for hands-on exercises that will contain tools that participants may utilize in their environments after the class.
URL:https://www.blackhillsinfosec.com/event/enterprise-security-for-all-w-bob-hewitt-rich-fifarek/2022-08-31/
LOCATION:MD
CATEGORIES:Training
ATTACH;FMTTYPE=image/png:https://www.blackhillsinfosec.com/wp-content/uploads/2022/07/Enterprise-Security-for-All-w_-Rich-Fifarik-Bob-Hewitt-1536x864-1.png
END:VEVENT
BEGIN:VEVENT
DTSTART;TZID=America/New_York:20220831T120000
DTEND;TZID=America/New_York:20220831T160000
DTSTAMP:20260419T141857
CREATED:20220719T222243Z
LAST-MODIFIED:20220719T222243Z
UID:10000702-1661947200-1661961600@www.blackhillsinfosec.com
SUMMARY:Hiring Handbook: How to Build an InfoSec Team that Gets Stuff Done w/ Kip Boyle
DESCRIPTION:In this class\, Kip shows InfoSec supervisors how to build the team of their dreams. Students will learn how to attract and retain top tier talent. The kind of talented people who could work anywhere\, but choose to work with you. Team members who get stuff done and don’t think much about changing employers. \nWhat’s more\, this kind of team throws open the door for you to become a powerful influencer on InfoSec strategy with your senior decision makers. Why? Because your team will let you work “on your program” instead of working “in your program.” And that will allow you to spend more time learning about the business your team protects and building relationships with the other top influencers across your organization. \nDuring this workshop\, we’ll be referring to the “Cybersecurity Hiring Manager Handbook” an open source document published under the Creative Commons Attribution 4.0 International (CC BY 4.0) license. \nhttps://www.antisyphontraining.com/hiring-handbook-how-to-build-an-infosec-team-that-gets-stuff-done-w-kip-boyle/
URL:https://www.blackhillsinfosec.com/event/hiring-handbook-how-to-build-an-infosec-team-that-gets-stuff-done-w-kip-boyle/2022-08-31/
LOCATION:MD
CATEGORIES:Training
ATTACH;FMTTYPE=image/png:https://www.blackhillsinfosec.com/wp-content/uploads/2022/07/Hiring_Handbook_Graphic.png
END:VEVENT
BEGIN:VEVENT
DTSTART;TZID=America/New_York:20220831T163000
DTEND;TZID=America/New_York:20220831T173000
DTSTAMP:20260419T141857
CREATED:20220624T204221Z
LAST-MODIFIED:20220920T184909Z
UID:10000471-1661963400-1661967000@www.blackhillsinfosec.com
SUMMARY:AASLR: Antisyphon Address Space Layout Randomization
DESCRIPTION:AASLR will have infosec professionals sharing their knowledge on tools\, techniques\, and procedures and then answering a lot of your questions on everything you can think to ask. \nStreamed live every Tuesday and Wednesday @ 4:30 pm. \nhttps://www.twitch.tv/antisyphon
URL:https://www.blackhillsinfosec.com/event/aaslr-antisyphon-address-space-layout-randomization/2022-08-31/
LOCATION:MD
CATEGORIES:Livestream
ATTACH;FMTTYPE=image/png:https://www.blackhillsinfosec.com/wp-content/uploads/2022/06/antisyphon_livestream_v1.png
END:VEVENT
END:VCALENDAR