BEGIN:VCALENDAR
VERSION:2.0
PRODID:-//Black Hills Information Security, Inc. - ECPv6.15.20//NONSGML v1.0//EN
CALSCALE:GREGORIAN
METHOD:PUBLISH
X-WR-CALNAME:Black Hills Information Security, Inc.
X-ORIGINAL-URL:https://www.blackhillsinfosec.com
X-WR-CALDESC:Events for Black Hills Information Security, Inc.
REFRESH-INTERVAL;VALUE=DURATION:PT1H
X-Robots-Tag:noindex
X-PUBLISHED-TTL:PT1H
BEGIN:VTIMEZONE
TZID:America/New_York
BEGIN:DAYLIGHT
TZOFFSETFROM:-0500
TZOFFSETTO:-0400
TZNAME:EDT
DTSTART:20210314T070000
END:DAYLIGHT
BEGIN:STANDARD
TZOFFSETFROM:-0400
TZOFFSETTO:-0500
TZNAME:EST
DTSTART:20211107T060000
END:STANDARD
BEGIN:DAYLIGHT
TZOFFSETFROM:-0500
TZOFFSETTO:-0400
TZNAME:EDT
DTSTART:20220313T070000
END:DAYLIGHT
BEGIN:STANDARD
TZOFFSETFROM:-0400
TZOFFSETTO:-0500
TZNAME:EST
DTSTART:20221106T060000
END:STANDARD
BEGIN:DAYLIGHT
TZOFFSETFROM:-0500
TZOFFSETTO:-0400
TZNAME:EDT
DTSTART:20230312T070000
END:DAYLIGHT
BEGIN:STANDARD
TZOFFSETFROM:-0400
TZOFFSETTO:-0500
TZNAME:EST
DTSTART:20231105T060000
END:STANDARD
END:VTIMEZONE
BEGIN:VEVENT
DTSTART;TZID=America/New_York:20220908T130000
DTEND;TZID=America/New_York:20220908T140000
DTSTAMP:20260419T160203
CREATED:20220822T220332Z
LAST-MODIFIED:20220822T221544Z
UID:10000708-1662642000-1662645600@www.blackhillsinfosec.com
SUMMARY:BHIS Webcast: Offensive Windows Event Logs w/ Tim Fowler | 1-Hour
DESCRIPTION:Thursday\, September 8\, 2022 – 1 pm EST (UTC -4) \nRegister: https://zoom.us/webinar/register/WN_Uw7nBVZNSP6bPxj7qXZpuA
URL:https://www.blackhillsinfosec.com/event/bhis-webcast-offensive-windows-event-logs-w-tim-fowler-1-hour/
LOCATION:MD
CATEGORIES:BHIS Webcast
ATTACH;FMTTYPE=image/png:https://www.blackhillsinfosec.com/wp-content/uploads/2022/03/BHISlogotest2.png
END:VEVENT
END:VCALENDAR