BEGIN:VCALENDAR
VERSION:2.0
PRODID:-//Black Hills Information Security, Inc. - ECPv6.15.20//NONSGML v1.0//EN
CALSCALE:GREGORIAN
METHOD:PUBLISH
X-WR-CALNAME:Black Hills Information Security, Inc.
X-ORIGINAL-URL:https://www.blackhillsinfosec.com
X-WR-CALDESC:Events for Black Hills Information Security, Inc.
REFRESH-INTERVAL;VALUE=DURATION:PT1H
X-Robots-Tag:noindex
X-PUBLISHED-TTL:PT1H
BEGIN:VTIMEZONE
TZID:America/New_York
BEGIN:DAYLIGHT
TZOFFSETFROM:-0500
TZOFFSETTO:-0400
TZNAME:EDT
DTSTART:20210314T070000
END:DAYLIGHT
BEGIN:STANDARD
TZOFFSETFROM:-0400
TZOFFSETTO:-0500
TZNAME:EST
DTSTART:20211107T060000
END:STANDARD
BEGIN:DAYLIGHT
TZOFFSETFROM:-0500
TZOFFSETTO:-0400
TZNAME:EDT
DTSTART:20220313T070000
END:DAYLIGHT
BEGIN:STANDARD
TZOFFSETFROM:-0400
TZOFFSETTO:-0500
TZNAME:EST
DTSTART:20221106T060000
END:STANDARD
BEGIN:DAYLIGHT
TZOFFSETFROM:-0500
TZOFFSETTO:-0400
TZNAME:EDT
DTSTART:20230312T070000
END:DAYLIGHT
BEGIN:STANDARD
TZOFFSETFROM:-0400
TZOFFSETTO:-0500
TZNAME:EST
DTSTART:20231105T060000
END:STANDARD
END:VTIMEZONE
BEGIN:VEVENT
DTSTART;TZID=America/New_York:20220915T100000
DTEND;TZID=America/New_York:20220915T140000
DTSTAMP:20260419T160155
CREATED:20220628T203522Z
LAST-MODIFIED:20230515T211629Z
UID:10000610-1663236000-1663250400@www.blackhillsinfosec.com
SUMMARY:SOC Core Skills w/ John Strand
DESCRIPTION:Register: https://www.antisyphontraining.com/soc-core-skills-w-john-strand/ \nThis 16-hour information security training course will cover the core security skills all Security Operation Center (SOC) analysts need to have. These are the skills that all Black Hills Information Security (BHIS) SOC team members need to have. \n\n\n 
URL:https://www.blackhillsinfosec.com/event/soc-core-skills-w-john-strand/2022-09-15/
LOCATION:MD
CATEGORIES:Pay What You Can,Training
ATTACH;FMTTYPE=image/png:https://www.blackhillsinfosec.com/wp-content/uploads/2022/06/SOC_CoreSkills_1920x1080.png
END:VEVENT
BEGIN:VEVENT
DTSTART;TZID=America/New_York:20220915T130000
DTEND;TZID=America/New_York:20220915T150000
DTSTAMP:20260419T160155
CREATED:20220831T193019Z
LAST-MODIFIED:20220831T193019Z
UID:10000739-1663246800-1663254000@www.blackhillsinfosec.com
SUMMARY:BHIS Webcast: Coercions and relays: The first cred is the deepest with Gabriel Prud'homme
DESCRIPTION:Thursday\, September 15\, 2022 – 1-3 pm EST (UTC -4) \nRegister here: https://zoom.us/webinar/register/WN_1Jha1CvGSG-QMDCMSVatfg \nIn this Black Hills Information Security (BHIS) webcast\, Gabriel Prud’homme will cover network protocol poisoning\, relays\, and abuses. \nLearn how to use Responder\, Ntlmrelayx\, and Mitm6. From PetitPotam to WebDAV remote and local privilege escalation\, and much more.
URL:https://www.blackhillsinfosec.com/event/bhis-webcast-coercions-and-relays-the-first-cred-is-the-deepest-with-gabriel-prudhomme/
LOCATION:MD
CATEGORIES:BHIS Webcast
ATTACH;FMTTYPE=image/jpeg:https://www.blackhillsinfosec.com/wp-content/uploads/2022/02/f32-scaled.jpg
END:VEVENT
END:VCALENDAR