BEGIN:VCALENDAR
VERSION:2.0
PRODID:-//Black Hills Information Security, Inc. - ECPv6.15.20//NONSGML v1.0//EN
CALSCALE:GREGORIAN
METHOD:PUBLISH
X-WR-CALNAME:Black Hills Information Security, Inc.
X-ORIGINAL-URL:https://www.blackhillsinfosec.com
X-WR-CALDESC:Events for Black Hills Information Security, Inc.
REFRESH-INTERVAL;VALUE=DURATION:PT1H
X-Robots-Tag:noindex
X-PUBLISHED-TTL:PT1H
BEGIN:VTIMEZONE
TZID:America/New_York
BEGIN:DAYLIGHT
TZOFFSETFROM:-0500
TZOFFSETTO:-0400
TZNAME:EDT
DTSTART:20230312T070000
END:DAYLIGHT
BEGIN:STANDARD
TZOFFSETFROM:-0400
TZOFFSETTO:-0500
TZNAME:EST
DTSTART:20231105T060000
END:STANDARD
BEGIN:DAYLIGHT
TZOFFSETFROM:-0500
TZOFFSETTO:-0400
TZNAME:EDT
DTSTART:20240310T070000
END:DAYLIGHT
BEGIN:STANDARD
TZOFFSETFROM:-0400
TZOFFSETTO:-0500
TZNAME:EST
DTSTART:20241103T060000
END:STANDARD
BEGIN:DAYLIGHT
TZOFFSETFROM:-0500
TZOFFSETTO:-0400
TZNAME:EDT
DTSTART:20250309T070000
END:DAYLIGHT
BEGIN:STANDARD
TZOFFSETFROM:-0400
TZOFFSETTO:-0500
TZNAME:EST
DTSTART:20251102T060000
END:STANDARD
END:VTIMEZONE
BEGIN:VTIMEZONE
TZID:America/New_York
BEGIN:DAYLIGHT
TZOFFSETFROM:-0500
TZOFFSETTO:-0400
TZNAME:EDT
DTSTART:20230312T070000
END:DAYLIGHT
BEGIN:STANDARD
TZOFFSETFROM:-0400
TZOFFSETTO:-0500
TZNAME:EST
DTSTART:20231105T060000
END:STANDARD
BEGIN:DAYLIGHT
TZOFFSETFROM:-0500
TZOFFSETTO:-0400
TZNAME:EDT
DTSTART:20240310T070000
END:DAYLIGHT
BEGIN:STANDARD
TZOFFSETFROM:-0400
TZOFFSETTO:-0500
TZNAME:EST
DTSTART:20241103T060000
END:STANDARD
BEGIN:DAYLIGHT
TZOFFSETFROM:-0500
TZOFFSETTO:-0400
TZNAME:EDT
DTSTART:20250309T070000
END:DAYLIGHT
BEGIN:STANDARD
TZOFFSETFROM:-0400
TZOFFSETTO:-0500
TZNAME:EST
DTSTART:20251102T060000
END:STANDARD
END:VTIMEZONE
BEGIN:VEVENT
DTSTART;VALUE=DATE:20241028
DTEND;VALUE=DATE:20241031
DTSTAMP:20260421T014807
CREATED:20241025T140726Z
LAST-MODIFIED:20241025T140726Z
UID:10001823-1730073600-1730332799@www.blackhillsinfosec.com
SUMMARY:Cyber Security Summit: Minneapolis
DESCRIPTION:Today’s technology and the related threat landscape are changing at warp speed\, making it hard to anticipate tomorrow. Quantum computing and generative AI promise both good and bad outcomes: even as lives are saved and cold cases solved\, these tools generate deepfake deception and bolster bad bias. \nThe cybersecurity community protects people\, processes\, and property\, and to combat outdated measures and tools\, we must do it faster. We know we are strongest when we work together to leverage our collective strengths. For the 14th annual Cyber Security Summit\, we come to the table to tackle emerging challenges and those beyond the horizon. – Information from event site
URL:https://www.blackhillsinfosec.com/event/cyber-security-summit-minneapolis/
LOCATION:Minneapolis Marriot Northwest\, 7025 Northland Dr. N\, Minneapolis\, MN\, 55428\, United States
END:VEVENT
BEGIN:VEVENT
DTSTART;TZID=America/New_York:20241030T120000
DTEND;TZID=America/New_York:20241030T130000
DTSTAMP:20260421T014807
CREATED:20231222T190134Z
LAST-MODIFIED:20240223T210425Z
UID:10001278-1730289600-1730293200@www.blackhillsinfosec.com
SUMMARY:Antisyphon Anticast
DESCRIPTION:
URL:https://www.blackhillsinfosec.com/event/antisyphon-webcast/2024-10-30/
LOCATION:MD
CATEGORIES:Antisyphon Webcast
END:VEVENT
END:VCALENDAR