BEGIN:VCALENDAR
VERSION:2.0
PRODID:-//Black Hills Information Security, Inc. - ECPv6.15.20//NONSGML v1.0//EN
CALSCALE:GREGORIAN
METHOD:PUBLISH
X-WR-CALNAME:Black Hills Information Security, Inc.
X-ORIGINAL-URL:https://www.blackhillsinfosec.com
X-WR-CALDESC:Events for Black Hills Information Security, Inc.
REFRESH-INTERVAL;VALUE=DURATION:PT1H
X-Robots-Tag:noindex
X-PUBLISHED-TTL:PT1H
BEGIN:VTIMEZONE
TZID:America/New_York
BEGIN:DAYLIGHT
TZOFFSETFROM:-0500
TZOFFSETTO:-0400
TZNAME:EDT
DTSTART:20270314T070000
END:DAYLIGHT
BEGIN:STANDARD
TZOFFSETFROM:-0400
TZOFFSETTO:-0500
TZNAME:EST
DTSTART:20271107T060000
END:STANDARD
BEGIN:DAYLIGHT
TZOFFSETFROM:-0500
TZOFFSETTO:-0400
TZNAME:EDT
DTSTART:20280312T070000
END:DAYLIGHT
BEGIN:STANDARD
TZOFFSETFROM:-0400
TZOFFSETTO:-0500
TZNAME:EST
DTSTART:20281105T060000
END:STANDARD
BEGIN:DAYLIGHT
TZOFFSETFROM:-0500
TZOFFSETTO:-0400
TZNAME:EDT
DTSTART:20290311T070000
END:DAYLIGHT
BEGIN:STANDARD
TZOFFSETFROM:-0400
TZOFFSETTO:-0500
TZNAME:EST
DTSTART:20291104T060000
END:STANDARD
END:VTIMEZONE
BEGIN:VEVENT
DTSTART;TZID=America/New_York:20281101T120000
DTEND;TZID=America/New_York:20281101T130000
DTSTAMP:20260420T002928
CREATED:20231222T190134Z
LAST-MODIFIED:20240223T210425Z
UID:10001487-1856692800-1856696400@www.blackhillsinfosec.com
SUMMARY:Antisyphon Anticast
DESCRIPTION:
URL:https://www.blackhillsinfosec.com/event/antisyphon-webcast/2028-11-01/
CATEGORIES:Antisyphon Webcast
END:VEVENT
BEGIN:VEVENT
DTSTART;TZID=America/New_York:20281108T120000
DTEND;TZID=America/New_York:20281108T130000
DTSTAMP:20260420T002928
CREATED:20231222T190134Z
LAST-MODIFIED:20240223T210425Z
UID:10001488-1857297600-1857301200@www.blackhillsinfosec.com
SUMMARY:Antisyphon Anticast
DESCRIPTION:
URL:https://www.blackhillsinfosec.com/event/antisyphon-webcast/2028-11-08/
CATEGORIES:Antisyphon Webcast
END:VEVENT
BEGIN:VEVENT
DTSTART;TZID=America/New_York:20281115T120000
DTEND;TZID=America/New_York:20281115T130000
DTSTAMP:20260420T002928
CREATED:20231222T190134Z
LAST-MODIFIED:20240223T210425Z
UID:10001489-1857902400-1857906000@www.blackhillsinfosec.com
SUMMARY:Antisyphon Anticast
DESCRIPTION:
URL:https://www.blackhillsinfosec.com/event/antisyphon-webcast/2028-11-15/
CATEGORIES:Antisyphon Webcast
END:VEVENT
BEGIN:VEVENT
DTSTART;TZID=America/New_York:20281122T120000
DTEND;TZID=America/New_York:20281122T130000
DTSTAMP:20260420T002928
CREATED:20231222T190134Z
LAST-MODIFIED:20240223T210425Z
UID:10001490-1858507200-1858510800@www.blackhillsinfosec.com
SUMMARY:Antisyphon Anticast
DESCRIPTION:
URL:https://www.blackhillsinfosec.com/event/antisyphon-webcast/2028-11-22/
CATEGORIES:Antisyphon Webcast
END:VEVENT
BEGIN:VEVENT
DTSTART;TZID=America/New_York:20281129T120000
DTEND;TZID=America/New_York:20281129T130000
DTSTAMP:20260420T002928
CREATED:20231222T190134Z
LAST-MODIFIED:20240223T210425Z
UID:10001491-1859112000-1859115600@www.blackhillsinfosec.com
SUMMARY:Antisyphon Anticast
DESCRIPTION:
URL:https://www.blackhillsinfosec.com/event/antisyphon-webcast/2028-11-29/
CATEGORIES:Antisyphon Webcast
END:VEVENT
END:VCALENDAR