BEGIN:VCALENDAR
VERSION:2.0
PRODID:-//Black Hills Information Security, Inc. - ECPv6.15.20//NONSGML v1.0//EN
CALSCALE:GREGORIAN
METHOD:PUBLISH
X-WR-CALNAME:Black Hills Information Security, Inc.
X-ORIGINAL-URL:https://www.blackhillsinfosec.com
X-WR-CALDESC:Events for Black Hills Information Security, Inc.
REFRESH-INTERVAL;VALUE=DURATION:PT1H
X-Robots-Tag:noindex
X-PUBLISHED-TTL:PT1H
BEGIN:VTIMEZONE
TZID:America/New_York
BEGIN:DAYLIGHT
TZOFFSETFROM:-0500
TZOFFSETTO:-0400
TZNAME:EDT
DTSTART:20270314T070000
END:DAYLIGHT
BEGIN:STANDARD
TZOFFSETFROM:-0400
TZOFFSETTO:-0500
TZNAME:EST
DTSTART:20271107T060000
END:STANDARD
BEGIN:DAYLIGHT
TZOFFSETFROM:-0500
TZOFFSETTO:-0400
TZNAME:EDT
DTSTART:20280312T070000
END:DAYLIGHT
BEGIN:STANDARD
TZOFFSETFROM:-0400
TZOFFSETTO:-0500
TZNAME:EST
DTSTART:20281105T060000
END:STANDARD
BEGIN:DAYLIGHT
TZOFFSETFROM:-0500
TZOFFSETTO:-0400
TZNAME:EDT
DTSTART:20290311T070000
END:DAYLIGHT
BEGIN:STANDARD
TZOFFSETFROM:-0400
TZOFFSETTO:-0500
TZNAME:EST
DTSTART:20291104T060000
END:STANDARD
END:VTIMEZONE
BEGIN:VEVENT
DTSTART;TZID=America/New_York:20281206T120000
DTEND;TZID=America/New_York:20281206T130000
DTSTAMP:20260420T002928
CREATED:20231222T190134Z
LAST-MODIFIED:20240223T210425Z
UID:10001492-1859716800-1859720400@www.blackhillsinfosec.com
SUMMARY:Antisyphon Anticast
DESCRIPTION:
URL:https://www.blackhillsinfosec.com/event/antisyphon-webcast/2028-12-06/
CATEGORIES:Antisyphon Webcast
END:VEVENT
BEGIN:VEVENT
DTSTART;TZID=America/New_York:20281213T120000
DTEND;TZID=America/New_York:20281213T130000
DTSTAMP:20260420T002928
CREATED:20231222T190134Z
LAST-MODIFIED:20240223T210425Z
UID:10001493-1860321600-1860325200@www.blackhillsinfosec.com
SUMMARY:Antisyphon Anticast
DESCRIPTION:
URL:https://www.blackhillsinfosec.com/event/antisyphon-webcast/2028-12-13/
CATEGORIES:Antisyphon Webcast
END:VEVENT
BEGIN:VEVENT
DTSTART;TZID=America/New_York:20281220T120000
DTEND;TZID=America/New_York:20281220T130000
DTSTAMP:20260420T002928
CREATED:20231222T190134Z
LAST-MODIFIED:20240223T210425Z
UID:10001494-1860926400-1860930000@www.blackhillsinfosec.com
SUMMARY:Antisyphon Anticast
DESCRIPTION:
URL:https://www.blackhillsinfosec.com/event/antisyphon-webcast/2028-12-20/
CATEGORIES:Antisyphon Webcast
END:VEVENT
BEGIN:VEVENT
DTSTART;TZID=America/New_York:20281227T120000
DTEND;TZID=America/New_York:20281227T130000
DTSTAMP:20260420T002928
CREATED:20231222T190134Z
LAST-MODIFIED:20240223T210425Z
UID:10001776-1861531200-1861534800@www.blackhillsinfosec.com
SUMMARY:Antisyphon Anticast
DESCRIPTION:
URL:https://www.blackhillsinfosec.com/event/antisyphon-webcast/2028-12-27/
CATEGORIES:Antisyphon Webcast
END:VEVENT
END:VCALENDAR