BEGIN:VCALENDAR
VERSION:2.0
PRODID:-//Black Hills Information Security, Inc. - ECPv6.15.20//NONSGML v1.0//EN
CALSCALE:GREGORIAN
METHOD:PUBLISH
X-ORIGINAL-URL:https://www.blackhillsinfosec.com
X-WR-CALDESC:Events for Black Hills Information Security, Inc.
REFRESH-INTERVAL;VALUE=DURATION:PT1H
X-Robots-Tag:noindex
X-PUBLISHED-TTL:PT1H
BEGIN:VTIMEZONE
TZID:America/New_York
BEGIN:DAYLIGHT
TZOFFSETFROM:-0500
TZOFFSETTO:-0400
TZNAME:EDT
DTSTART:20240310T070000
END:DAYLIGHT
BEGIN:STANDARD
TZOFFSETFROM:-0400
TZOFFSETTO:-0500
TZNAME:EST
DTSTART:20241103T060000
END:STANDARD
BEGIN:DAYLIGHT
TZOFFSETFROM:-0500
TZOFFSETTO:-0400
TZNAME:EDT
DTSTART:20250309T070000
END:DAYLIGHT
BEGIN:STANDARD
TZOFFSETFROM:-0400
TZOFFSETTO:-0500
TZNAME:EST
DTSTART:20251102T060000
END:STANDARD
BEGIN:DAYLIGHT
TZOFFSETFROM:-0500
TZOFFSETTO:-0400
TZNAME:EDT
DTSTART:20260308T070000
END:DAYLIGHT
BEGIN:STANDARD
TZOFFSETFROM:-0400
TZOFFSETTO:-0500
TZNAME:EST
DTSTART:20261101T060000
END:STANDARD
END:VTIMEZONE
BEGIN:VEVENT
DTSTART;VALUE=DATE:20250221
DTEND;VALUE=DATE:20250224
DTSTAMP:20260423T140054
CREATED:20241121T022242Z
LAST-MODIFIED:20241121T022242Z
UID:10001858-1740096000-1740355199@www.blackhillsinfosec.com
SUMMARY:SkiCon 2025
DESCRIPTION:SkiCon is where après ski and infosec meet!\nWe aim to join the outdoors and winter sports with cybersecurity research. We differ from most security conferences and hacker gatherings we want you to be outside\, active\, healthy\, and feel the sunshine on your skin. \n-Information from event site \nCFP OPEN: 15 October 2024 \nCFP CLOSE: 15 December 2024 \nCFP LINK: CFP :: SkiCon
URL:https://www.blackhillsinfosec.com/event/skicon-2025/
LOCATION:Colonial Hotel\, 625 Betty Spring Rd\, Gardner\, MA\, 01440\, United States
CATEGORIES:CFP,Conference
END:VEVENT
END:VCALENDAR