BEGIN:VCALENDAR
VERSION:2.0
PRODID:-//Black Hills Information Security, Inc. - ECPv6.15.20//NONSGML v1.0//EN
CALSCALE:GREGORIAN
METHOD:PUBLISH
X-WR-CALNAME:Black Hills Information Security, Inc.
X-ORIGINAL-URL:https://www.blackhillsinfosec.com
X-WR-CALDESC:Events for Black Hills Information Security, Inc.
REFRESH-INTERVAL;VALUE=DURATION:PT1H
X-Robots-Tag:noindex
X-PUBLISHED-TTL:PT1H
BEGIN:VTIMEZONE
TZID:America/New_York
BEGIN:DAYLIGHT
TZOFFSETFROM:-0500
TZOFFSETTO:-0400
TZNAME:EDT
DTSTART:20240310T070000
END:DAYLIGHT
BEGIN:STANDARD
TZOFFSETFROM:-0400
TZOFFSETTO:-0500
TZNAME:EST
DTSTART:20241103T060000
END:STANDARD
BEGIN:DAYLIGHT
TZOFFSETFROM:-0500
TZOFFSETTO:-0400
TZNAME:EDT
DTSTART:20250309T070000
END:DAYLIGHT
BEGIN:STANDARD
TZOFFSETFROM:-0400
TZOFFSETTO:-0500
TZNAME:EST
DTSTART:20251102T060000
END:STANDARD
BEGIN:DAYLIGHT
TZOFFSETFROM:-0500
TZOFFSETTO:-0400
TZNAME:EDT
DTSTART:20260308T070000
END:DAYLIGHT
BEGIN:STANDARD
TZOFFSETFROM:-0400
TZOFFSETTO:-0500
TZNAME:EST
DTSTART:20261101T060000
END:STANDARD
END:VTIMEZONE
BEGIN:VEVENT
DTSTART;VALUE=DATE:20250603
DTEND;VALUE=DATE:20250605
DTSTAMP:20260419T205304
CREATED:20241121T014219Z
LAST-MODIFIED:20241121T014219Z
UID:10001854-1748908800-1749081599@www.blackhillsinfosec.com
SUMMARY:RVASEC 14
DESCRIPTION:RVAsec is Richmond Virginia’s security conference that showcases local talent as well as brings the best speakers to the midatlantic region.  RVAsec typically attracted over 850 security professionals from across the country. The conference has multiple tracks with a focus on technical\, business and 101 presentations. \n-Information from event site
URL:https://www.blackhillsinfosec.com/event/rvasec-14/
LOCATION:Downtown Richmond Marriott\, 500 East Broad Street\, Richmond\, VA\, 23219\, United States
CATEGORIES:Conference
END:VEVENT
BEGIN:VEVENT
DTSTART;VALUE=DATE:20250603
DTEND;VALUE=DATE:20250606
DTSTAMP:20260419T205304
CREATED:20241022T211311Z
LAST-MODIFIED:20241028T112307Z
UID:10001820-1748908800-1749167999@www.blackhillsinfosec.com
SUMMARY:Techno Security & Digital Forensics Conference
DESCRIPTION:For over 26 years\, Techno Security & Digital Forensics Conference has been the most important gathering of private sector and government attendees dedicated to the digital forensics and computer security industries. But Techno is more than a conference. It’s where the community comes together to learn\, network and share. \nAs our flagship event in Wilmington continues to grow\, we look forward to collaborating with leading agencies and companies from North America and around the world. We are proud and honored to be part of this special community and look forward to seeing you in Wilmington! -Event description from site \nCFP Closed: 9 December 2024 \nCFP Link: Techno Security & Digital Forensics Conference – Call for Speakers
URL:https://www.blackhillsinfosec.com/event/techno-security-digital-forensics-conference/
LOCATION:Wilmington Convention Center\, 10 Convention Center Dr\, Wilmington\, NC\, 28401\, United States
CATEGORIES:CFP,Conference
END:VEVENT
END:VCALENDAR