BEGIN:VCALENDAR
VERSION:2.0
PRODID:-//Black Hills Information Security, Inc. - ECPv6.15.20//NONSGML v1.0//EN
CALSCALE:GREGORIAN
METHOD:PUBLISH
X-ORIGINAL-URL:https://www.blackhillsinfosec.com
X-WR-CALDESC:Events for Black Hills Information Security, Inc.
REFRESH-INTERVAL;VALUE=DURATION:PT1H
X-Robots-Tag:noindex
X-PUBLISHED-TTL:PT1H
BEGIN:VTIMEZONE
TZID:America/New_York
BEGIN:DAYLIGHT
TZOFFSETFROM:-0500
TZOFFSETTO:-0400
TZNAME:EDT
DTSTART:20240310T070000
END:DAYLIGHT
BEGIN:STANDARD
TZOFFSETFROM:-0400
TZOFFSETTO:-0500
TZNAME:EST
DTSTART:20241103T060000
END:STANDARD
BEGIN:DAYLIGHT
TZOFFSETFROM:-0500
TZOFFSETTO:-0400
TZNAME:EDT
DTSTART:20250309T070000
END:DAYLIGHT
BEGIN:STANDARD
TZOFFSETFROM:-0400
TZOFFSETTO:-0500
TZNAME:EST
DTSTART:20251102T060000
END:STANDARD
BEGIN:DAYLIGHT
TZOFFSETFROM:-0500
TZOFFSETTO:-0400
TZNAME:EDT
DTSTART:20260308T070000
END:DAYLIGHT
BEGIN:STANDARD
TZOFFSETFROM:-0400
TZOFFSETTO:-0500
TZNAME:EST
DTSTART:20261101T060000
END:STANDARD
END:VTIMEZONE
BEGIN:VEVENT
DTSTART;VALUE=DATE:20250925
DTEND;VALUE=DATE:20250926
DTSTAMP:20260421T075456
CREATED:20241105T194235Z
LAST-MODIFIED:20241105T194235Z
UID:10001837-1758758400-1758844799@www.blackhillsinfosec.com
SUMMARY:MSSP Alert Live
DESCRIPTION:This year’s event will provide you with insights and information you can use about the most recent cybersecurity strategies\, technologies and business opportunities. Plus\, you’ll gain new perspectives about the following market moving trends to help you with your business:  \n  \n\nArtificial intelligence (AI)\, including how it has been and can be used for incident response and crisis communications.   \n\n\nTackling the shortage of cybersecurity talent and professionals\, and how to get the most out of your existing workforce. \n\n\nCybersecurity liability – how to protect your business if a breached customer sues.  \n\n\nCybersecurity insurance – how the cyber insurance market is changing and what you need to know as you head into 2025. \n \n\nWhether you are just getting started offering managed security services\, or an established MSSP\, MSSP Alert Live will deliver everything you need for your managed security services roadmap for 2026 and beyond.  -Information from event site \n  \nDate is place holder for FALL 2025
URL:https://www.blackhillsinfosec.com/event/mssp-alert-live/
LOCATION:Austin\, Texas\, Austin\, TX\, United States
CATEGORIES:Conference
END:VEVENT
END:VCALENDAR