BEGIN:VCALENDAR
VERSION:2.0
PRODID:-//Black Hills Information Security, Inc. - ECPv6.15.20//NONSGML v1.0//EN
CALSCALE:GREGORIAN
METHOD:PUBLISH
X-WR-CALNAME:Black Hills Information Security, Inc.
X-ORIGINAL-URL:https://www.blackhillsinfosec.com
X-WR-CALDESC:Events for Black Hills Information Security, Inc.
REFRESH-INTERVAL;VALUE=DURATION:PT1H
X-Robots-Tag:noindex
X-PUBLISHED-TTL:PT1H
BEGIN:VTIMEZONE
TZID:America/New_York
BEGIN:DAYLIGHT
TZOFFSETFROM:-0500
TZOFFSETTO:-0400
TZNAME:EDT
DTSTART:20210314T070000
END:DAYLIGHT
BEGIN:STANDARD
TZOFFSETFROM:-0400
TZOFFSETTO:-0500
TZNAME:EST
DTSTART:20211107T060000
END:STANDARD
BEGIN:DAYLIGHT
TZOFFSETFROM:-0500
TZOFFSETTO:-0400
TZNAME:EDT
DTSTART:20220313T070000
END:DAYLIGHT
BEGIN:STANDARD
TZOFFSETFROM:-0400
TZOFFSETTO:-0500
TZNAME:EST
DTSTART:20221106T060000
END:STANDARD
BEGIN:DAYLIGHT
TZOFFSETFROM:-0500
TZOFFSETTO:-0400
TZNAME:EDT
DTSTART:20230312T070000
END:DAYLIGHT
BEGIN:STANDARD
TZOFFSETFROM:-0400
TZOFFSETTO:-0500
TZNAME:EST
DTSTART:20231105T060000
END:STANDARD
BEGIN:DAYLIGHT
TZOFFSETFROM:-0500
TZOFFSETTO:-0400
TZNAME:EDT
DTSTART:20240310T070000
END:DAYLIGHT
BEGIN:STANDARD
TZOFFSETFROM:-0400
TZOFFSETTO:-0500
TZNAME:EST
DTSTART:20241103T060000
END:STANDARD
END:VTIMEZONE
BEGIN:VEVENT
DTSTART;TZID=America/New_York:20230529T080000
DTEND;TZID=America/New_York:20230530T170000
DTSTAMP:20260420T002419
CREATED:20230515T210848Z
LAST-MODIFIED:20230515T210848Z
UID:10000954-1685347200-1685466000@www.blackhillsinfosec.com
SUMMARY:x33fcon
DESCRIPTION:
URL:https://www.blackhillsinfosec.com/event/x33fcon/
CATEGORIES:Conference
END:VEVENT
BEGIN:VEVENT
DTSTART;TZID=America/New_York:20230521T080000
DTEND;TZID=America/New_York:20230523T170000
DTSTAMP:20260420T002419
CREATED:20230515T210755Z
LAST-MODIFIED:20230515T210755Z
UID:10000953-1684656000-1684861200@www.blackhillsinfosec.com
SUMMARY:MSPGeek
DESCRIPTION:
URL:https://www.blackhillsinfosec.com/event/mspgeek/
CATEGORIES:Conference
END:VEVENT
BEGIN:VEVENT
DTSTART;TZID=America/New_York:20230520T080000
DTEND;TZID=America/New_York:20230520T170000
DTSTAMP:20260420T002419
CREATED:20230515T210432Z
LAST-MODIFIED:20230515T210542Z
UID:10000951-1684569600-1684602000@www.blackhillsinfosec.com
SUMMARY:BSides Fort Wayne
DESCRIPTION:
URL:https://www.blackhillsinfosec.com/event/bsides-fort-wayne/
LOCATION:Sweetwater | 5501 US Hwy 30 W\, Fort Wayne\, IN 46818\, 5501 US Hwy 30 W\, Fort Wayne\, IN\, 46818\, United States
CATEGORIES:Conference
END:VEVENT
BEGIN:VEVENT
DTSTART;TZID=America/New_York:20230519T080000
DTEND;TZID=America/New_York:20230520T170000
DTSTAMP:20260420T002419
CREATED:20230515T210634Z
LAST-MODIFIED:20230515T210700Z
UID:10000952-1684483200-1684602000@www.blackhillsinfosec.com
SUMMARY:Hack Miami
DESCRIPTION:
URL:https://www.blackhillsinfosec.com/event/hack-miami/
CATEGORIES:Conference
END:VEVENT
BEGIN:VEVENT
DTSTART;VALUE=DATE:20230519
DTEND;VALUE=DATE:20230521
DTSTAMP:20260420T002419
CREATED:20221219T191744Z
LAST-MODIFIED:20221219T202456Z
UID:10000635-1684454400-1684627199@www.blackhillsinfosec.com
SUMMARY:ThotCon
DESCRIPTION:https://www.thotcon.org/
URL:https://www.blackhillsinfosec.com/event/thotcon/
CATEGORIES:Conference
ATTACH;FMTTYPE=image/png:https://www.blackhillsinfosec.com/wp-content/uploads/2022/12/Thotcon.png
END:VEVENT
BEGIN:VEVENT
DTSTART;TZID=America/New_York:20230429T080000
DTEND;TZID=America/New_York:20230430T170000
DTSTAMP:20260420T002419
CREATED:20221206T215913Z
LAST-MODIFIED:20221206T215913Z
UID:10000632-1682755200-1682874000@www.blackhillsinfosec.com
SUMMARY:BSides Charm (Baltimore)
DESCRIPTION:
URL:https://www.blackhillsinfosec.com/event/bsides-charm-baltimore/
CATEGORIES:Conference
ATTACH;FMTTYPE=image/png:https://www.blackhillsinfosec.com/wp-content/uploads/2022/12/charm.png
END:VEVENT
BEGIN:VEVENT
DTSTART;TZID=America/New_York:20230415T080000
DTEND;TZID=America/New_York:20230415T170000
DTSTAMP:20260420T002419
CREATED:20221206T215808Z
LAST-MODIFIED:20221206T215808Z
UID:10000780-1681545600-1681578000@www.blackhillsinfosec.com
SUMMARY:BSides Nashville
DESCRIPTION:
URL:https://www.blackhillsinfosec.com/event/bsides-nashville/
CATEGORIES:Conference
ATTACH;FMTTYPE=image/png:https://www.blackhillsinfosec.com/wp-content/uploads/2022/12/blackwhite-logo-1500x1500-2-01-e1577911057831.png
END:VEVENT
BEGIN:VEVENT
DTSTART;TZID=America/New_York:20230401T080000
DTEND;TZID=America/New_York:20230401T190000
DTSTAMP:20260420T002419
CREATED:20230209T225154Z
LAST-MODIFIED:20230209T225154Z
UID:10000949-1680336000-1680375600@www.blackhillsinfosec.com
SUMMARY:BSides Tampa
DESCRIPTION:
URL:https://www.blackhillsinfosec.com/event/bsides-tampa/
CATEGORIES:Conference
ATTACH;FMTTYPE=image/jpeg:https://www.blackhillsinfosec.com/wp-content/uploads/2023/02/download.jpeg
END:VEVENT
BEGIN:VEVENT
DTSTART;TZID=America/New_York:20230330T130000
DTEND;TZID=America/New_York:20230331T170000
DTSTAMP:20260420T002419
CREATED:20230209T224945Z
LAST-MODIFIED:20230209T224945Z
UID:10000948-1680181200-1680282000@www.blackhillsinfosec.com
SUMMARY:CypherCon
DESCRIPTION:
URL:https://www.blackhillsinfosec.com/event/cyphercon/
CATEGORIES:Conference
ATTACH;FMTTYPE=image/jpeg:https://www.blackhillsinfosec.com/wp-content/uploads/2023/02/CgYgCPfv_400x400.jpg
END:VEVENT
BEGIN:VEVENT
DTSTART;TZID=America/New_York:20230318T080000
DTEND;TZID=America/New_York:20230318T170000
DTSTAMP:20260420T002419
CREATED:20230206T231216Z
LAST-MODIFIED:20230206T231216Z
UID:10000781-1679126400-1679158800@www.blackhillsinfosec.com
SUMMARY:BSides Rochester
DESCRIPTION:
URL:https://www.blackhillsinfosec.com/event/bsides-rochester/
CATEGORIES:Conference
ATTACH;FMTTYPE=image/png:https://www.blackhillsinfosec.com/wp-content/uploads/2023/02/2019_logo.png
END:VEVENT
BEGIN:VEVENT
DTSTART;TZID=America/New_York:20230316T080000
DTEND;TZID=America/New_York:20230318T170000
DTSTAMP:20260420T002419
CREATED:20221206T215638Z
LAST-MODIFIED:20221206T215638Z
UID:10000779-1678953600-1679158800@www.blackhillsinfosec.com
SUMMARY:WiCyS (Women in CyberSecurity)
DESCRIPTION:
URL:https://www.blackhillsinfosec.com/event/wicys-women-in-cybersecurity/
CATEGORIES:Conference
ATTACH;FMTTYPE=image/png:https://www.blackhillsinfosec.com/wp-content/uploads/2022/12/wicys.png
END:VEVENT
BEGIN:VEVENT
DTSTART;TZID=America/New_York:20230301T110000
DTEND;TZID=America/New_York:20230301T170000
DTSTAMP:20260420T002419
CREATED:20221219T211708Z
LAST-MODIFIED:20221220T163146Z
UID:10000636-1677668400-1677690000@www.blackhillsinfosec.com
SUMMARY:The Most Offensive Con That Ever Offensived Summit
DESCRIPTION:https://zoom.us/j/95879143124
URL:https://www.blackhillsinfosec.com/event/the-most-offensive-con-that-ever-offensived-summit/
CATEGORIES:Conference
END:VEVENT
BEGIN:VEVENT
DTSTART;TZID=America/New_York:20230222T080000
DTEND;TZID=America/New_York:20230224T170000
DTSTAMP:20260420T002419
CREATED:20221006T185303Z
LAST-MODIFIED:20221006T185303Z
UID:10000767-1677052800-1677258000@www.blackhillsinfosec.com
SUMMARY:Right of Boom
DESCRIPTION:
URL:https://www.blackhillsinfosec.com/event/right-of-boom/
CATEGORIES:Conference
ATTACH;FMTTYPE=image/png:https://www.blackhillsinfosec.com/wp-content/uploads/2022/10/rightofboom.png
END:VEVENT
BEGIN:VEVENT
DTSTART;TZID=America/New_York:20230221T080000
DTEND;TZID=America/New_York:20230224T170000
DTSTAMP:20260420T002419
CREATED:20221206T215450Z
LAST-MODIFIED:20221206T215450Z
UID:10000778-1676966400-1677258000@www.blackhillsinfosec.com
SUMMARY:Right of Boom (MSP)
DESCRIPTION:
URL:https://www.blackhillsinfosec.com/event/right-of-boom-msp/
CATEGORIES:Conference
END:VEVENT
BEGIN:VEVENT
DTSTART;TZID=America/New_York:20230215T080000
DTEND;TZID=America/New_York:20230217T170000
DTSTAMP:20260420T002419
CREATED:20221219T184547Z
LAST-MODIFIED:20221219T191155Z
UID:10000634-1676448000-1676653200@www.blackhillsinfosec.com
SUMMARY:Texas Bankers Association: Cyber Tech Conference
DESCRIPTION:https://www.texasbankers.com/
URL:https://www.blackhillsinfosec.com/event/texas-bankers-association-cyber-tech-conference/
CATEGORIES:Conference
END:VEVENT
BEGIN:VEVENT
DTSTART;TZID=America/New_York:20230213T080000
DTEND;TZID=America/New_York:20230216T170000
DTSTAMP:20260420T002419
CREATED:20221206T215257Z
LAST-MODIFIED:20221206T215355Z
UID:10000777-1676275200-1676566800@www.blackhillsinfosec.com
SUMMARY:S4x23 (ICS)
DESCRIPTION:
URL:https://www.blackhillsinfosec.com/event/s4x23-ics/
CATEGORIES:Conference
END:VEVENT
BEGIN:VEVENT
DTSTART;TZID=America/New_York:20230127T080000
DTEND;TZID=America/New_York:20230128T170000
DTSTAMP:20260420T002419
CREATED:20221006T185113Z
LAST-MODIFIED:20221006T185113Z
UID:10000766-1674806400-1674925200@www.blackhillsinfosec.com
SUMMARY:CactusCon
DESCRIPTION:
URL:https://www.blackhillsinfosec.com/event/cactuscon/
CATEGORIES:Conference
ATTACH;FMTTYPE=image/png:https://www.blackhillsinfosec.com/wp-content/uploads/2022/10/cactuscon.png
END:VEVENT
BEGIN:VEVENT
DTSTART;TZID=America/New_York:20230120T080000
DTEND;TZID=America/New_York:20230122T170000
DTSTAMP:20260420T002419
CREATED:20220920T221214Z
LAST-MODIFIED:20220920T221214Z
UID:10000762-1674201600-1674406800@www.blackhillsinfosec.com
SUMMARY:ShmooCon
DESCRIPTION:
URL:https://www.blackhillsinfosec.com/event/shmoocon/
LOCATION:Washington Hilton Hotel\, 1919 Connecticut Ave.\, NW\, Washington\, DC\, 20009\, United States
CATEGORIES:Conference
ATTACH;FMTTYPE=image/png:https://www.blackhillsinfosec.com/wp-content/uploads/2022/09/SHMOO2023_Banner_2.png
END:VEVENT
BEGIN:VEVENT
DTSTART;TZID=America/New_York:20230113T080000
DTEND;TZID=America/New_York:20230115T170000
DTSTAMP:20260420T002419
CREATED:20221206T215013Z
LAST-MODIFIED:20221206T215013Z
UID:10000776-1673596800-1673802000@www.blackhillsinfosec.com
SUMMARY:CPTC - Collegiate Pentesting Competition
DESCRIPTION:
URL:https://www.blackhillsinfosec.com/event/cptc-collegiate-pentesting-competition/
CATEGORIES:Conference
END:VEVENT
BEGIN:VEVENT
DTSTART;TZID=America/New_York:20221119T080000
DTEND;TZID=America/New_York:20221119T170000
DTSTAMP:20260420T002419
CREATED:20221006T184733Z
LAST-MODIFIED:20221006T184819Z
UID:10000765-1668844800-1668877200@www.blackhillsinfosec.com
SUMMARY:BSides Charleston
DESCRIPTION:Check out Chris Traynor’s Workshop on November 17th! \nhttps://bsideschs.ticketbud.com/ws-intro2pen
URL:https://www.blackhillsinfosec.com/event/bsides-charleston/
CATEGORIES:Conference
ATTACH;FMTTYPE=image/png:https://www.blackhillsinfosec.com/wp-content/uploads/2022/10/charleston.png
END:VEVENT
BEGIN:VEVENT
DTSTART;TZID=America/New_York:20221118T080000
DTEND;TZID=America/New_York:20221119T170000
DTSTAMP:20260420T002419
CREATED:20221006T184600Z
LAST-MODIFIED:20221006T184600Z
UID:10000764-1668758400-1668877200@www.blackhillsinfosec.com
SUMMARY:BSides Orlando
DESCRIPTION:
URL:https://www.blackhillsinfosec.com/event/bsides-orlando/
CATEGORIES:Conference
ATTACH;FMTTYPE=image/png:https://www.blackhillsinfosec.com/wp-content/uploads/2022/10/orlando.png
END:VEVENT
BEGIN:VEVENT
DTSTART;TZID=America/New_York:20221022T080000
DTEND;TZID=America/New_York:20221023T170000
DTSTAMP:20260420T002419
CREATED:20220920T220720Z
LAST-MODIFIED:20221006T184335Z
UID:10000761-1666425600-1666544400@www.blackhillsinfosec.com
SUMMARY:BSides San Diego
DESCRIPTION:Sponsoring only – BHIS will not be in attendance
URL:https://www.blackhillsinfosec.com/event/bsides-san-diego/
CATEGORIES:Conference
ATTACH;FMTTYPE=image/jpeg:https://www.blackhillsinfosec.com/wp-content/uploads/2022/09/bsidessdlogo.jpeg
END:VEVENT
BEGIN:VEVENT
DTSTART;TZID=America/New_York:20221015T090000
DTEND;TZID=America/New_York:20221015T170000
DTSTAMP:20260420T002419
CREATED:20221006T184225Z
LAST-MODIFIED:20221006T184225Z
UID:10000763-1665824400-1665853200@www.blackhillsinfosec.com
SUMMARY:BSides Raleigh-Durham
DESCRIPTION:Sponsoring only – BHIS will not be in attendance \nSecurity BSides is a community-driven framework for building events for and by cyber security community members. The goal is to expand the spectrum of conversation beyond the traditional confines of space and time. It creates opportunities for individuals to both present and participate in an intimate atmosphere that encourages collaboration. It is an intense event with discussions\, demos\, and interaction from participants. It is where conversations for the next-big-thing are happening. \nSecurity is top of mind across the entire sphere of IT and the world beyond. Therefore\, more people and organizations are interested in the next new thing in security. BSides is the place where these people come to collaborate\, learn and share. \nWith many tech-companies\, colleges and universities in Raleigh\, Durham\, Chapel Hill and surrounding areas\, it is also an international center of innovation in the security industry. \nSecurity B-Sides Raleigh-Durham (B-Sides RDU) is proud to have had great speaker lineups at our events including keynotes by Dan Kaminsky\, Dave Kennedy\, Paul Vixie\, BenTen\, Jay Beale\, G.Mark Hardy\, Cliff Stoll\, Shahid Buttar\, Chris Wysopal and Bruce Potter.
URL:https://www.blackhillsinfosec.com/event/bsides-raleigh-durham/
CATEGORIES:Conference
ATTACH;FMTTYPE=image/png:https://www.blackhillsinfosec.com/wp-content/uploads/2022/10/RDU.png
END:VEVENT
BEGIN:VEVENT
DTSTART;VALUE=DATE:20221010
DTEND;VALUE=DATE:20221015
DTSTAMP:20260420T002419
CREATED:20220624T203912Z
LAST-MODIFIED:20220624T203912Z
UID:10000451-1665360000-1665791999@www.blackhillsinfosec.com
SUMMARY:WWHF - Deadwood 2022
DESCRIPTION:Wild West Hackin’ Fest (WWHF) is committed to offering high-quality information security education to beginners and seasoned professionals alike. With reasonably priced training\, conferences\, hands-on labs\, and workshops\, WWHF lowers the barrier to entry for those seeking to enter into the world of information security. WWHF also offers a venue for those already established in the industry to share ideas\, give back\, and continue learning.
URL:https://www.blackhillsinfosec.com/event/wwhf-deadwood-2022/
LOCATION:Deadwood Mountain Grand\, 1906 Deadwood Mountain Drive\, Deadwood\, SD\, 57732\, United States
CATEGORIES:Conference
ATTACH;FMTTYPE=image/png:https://www.blackhillsinfosec.com/wp-content/uploads/2022/06/Screen-Shot-2022-06-24-at-3.35.40-PM.png
END:VEVENT
BEGIN:VEVENT
DTSTART;TZID=America/New_York:20221008T080000
DTEND;TZID=America/New_York:20221008T170000
DTSTAMP:20260420T002419
CREATED:20220920T215902Z
LAST-MODIFIED:20220920T215902Z
UID:10000622-1665216000-1665248400@www.blackhillsinfosec.com
SUMMARY:BSides St. Louis
DESCRIPTION:
URL:https://www.blackhillsinfosec.com/event/bsides-st-louis/
CATEGORIES:Conference
ATTACH;FMTTYPE=image/png:https://www.blackhillsinfosec.com/wp-content/uploads/2022/09/OFFICIAL-BSIDES-LOGO-solid.png
END:VEVENT
BEGIN:VEVENT
DTSTART;TZID=America/New_York:20221007T080000
DTEND;TZID=America/New_York:20221008T170000
DTSTAMP:20260420T002419
CREATED:20220920T220337Z
LAST-MODIFIED:20220920T220337Z
UID:10000623-1665129600-1665248400@www.blackhillsinfosec.com
SUMMARY:BSides København
DESCRIPTION:
URL:https://www.blackhillsinfosec.com/event/bsides-kobenhavn/
CATEGORIES:Conference
ATTACH;FMTTYPE=image/png:https://www.blackhillsinfosec.com/wp-content/uploads/2022/09/Screen-Shot-2022-09-20-at-5.02.55-PM.png
END:VEVENT
BEGIN:VEVENT
DTSTART;TZID=America/New_York:20220929T080000
DTEND;TZID=America/New_York:20220930T170000
DTSTAMP:20260420T002419
CREATED:20220920T214920Z
LAST-MODIFIED:20220920T214920Z
UID:10000620-1664438400-1664557200@www.blackhillsinfosec.com
SUMMARY:BruCON
DESCRIPTION:
URL:https://www.blackhillsinfosec.com/event/brucon/
CATEGORIES:Conference
ATTACH;FMTTYPE=image/png:https://www.blackhillsinfosec.com/wp-content/uploads/2022/09/brucon.png
END:VEVENT
BEGIN:VEVENT
DTSTART;TZID=America/New_York:20220928T080000
DTEND;TZID=America/New_York:20220930T170000
DTSTAMP:20260420T002419
CREATED:20220920T215731Z
LAST-MODIFIED:20220920T215731Z
UID:10000621-1664352000-1664557200@www.blackhillsinfosec.com
SUMMARY:Lex Mundi COO & Executive Director Annual Conference
DESCRIPTION:
URL:https://www.blackhillsinfosec.com/event/lex-mundi-coo-executive-director-annual-conference/
CATEGORIES:Conference
END:VEVENT
BEGIN:VEVENT
DTSTART;TZID=America/New_York:20220928T080000
DTEND;TZID=America/New_York:20220929T170000
DTSTAMP:20260420T002419
CREATED:20220920T212057Z
LAST-MODIFIED:20220920T212057Z
UID:10000619-1664352000-1664470800@www.blackhillsinfosec.com
SUMMARY:Ninestar Technology Conference
DESCRIPTION:
URL:https://www.blackhillsinfosec.com/event/ninestar-technology-conference/
CATEGORIES:Conference
ATTACH;FMTTYPE=image/png:https://www.blackhillsinfosec.com/wp-content/uploads/2022/09/Screen-Shot-2022-09-20-at-4.20.38-PM.png
END:VEVENT
BEGIN:VEVENT
DTSTART;TZID=America/New_York:20220924T080000
DTEND;TZID=America/New_York:20220925T170000
DTSTAMP:20260420T002419
CREATED:20220920T205830Z
LAST-MODIFIED:20220920T205830Z
UID:10000604-1664006400-1664125200@www.blackhillsinfosec.com
SUMMARY:BSides Charlotte
DESCRIPTION:
URL:https://www.blackhillsinfosec.com/event/bsides-charlotte/
LOCATION:1 Bank of America Center\, 150 North College Street\, Charlotte\, NC\, 28202\, United States
CATEGORIES:Conference
ATTACH;FMTTYPE=image/png:https://www.blackhillsinfosec.com/wp-content/uploads/2022/09/BSides-charlotte.png
END:VEVENT
END:VCALENDAR