BEGIN:VCALENDAR
VERSION:2.0
PRODID:-//Black Hills Information Security, Inc. - ECPv6.15.20//NONSGML v1.0//EN
CALSCALE:GREGORIAN
METHOD:PUBLISH
X-ORIGINAL-URL:https://www.blackhillsinfosec.com
X-WR-CALDESC:Events for Black Hills Information Security, Inc.
REFRESH-INTERVAL;VALUE=DURATION:PT1H
X-Robots-Tag:noindex
X-PUBLISHED-TTL:PT1H
BEGIN:VTIMEZONE
TZID:America/New_York
BEGIN:DAYLIGHT
TZOFFSETFROM:-0500
TZOFFSETTO:-0400
TZNAME:EDT
DTSTART:20240310T070000
END:DAYLIGHT
BEGIN:STANDARD
TZOFFSETFROM:-0400
TZOFFSETTO:-0500
TZNAME:EST
DTSTART:20241103T060000
END:STANDARD
BEGIN:DAYLIGHT
TZOFFSETFROM:-0500
TZOFFSETTO:-0400
TZNAME:EDT
DTSTART:20250309T070000
END:DAYLIGHT
BEGIN:STANDARD
TZOFFSETFROM:-0400
TZOFFSETTO:-0500
TZNAME:EST
DTSTART:20251102T060000
END:STANDARD
BEGIN:DAYLIGHT
TZOFFSETFROM:-0500
TZOFFSETTO:-0400
TZNAME:EDT
DTSTART:20260308T070000
END:DAYLIGHT
BEGIN:STANDARD
TZOFFSETFROM:-0400
TZOFFSETTO:-0500
TZNAME:EST
DTSTART:20261101T060000
END:STANDARD
BEGIN:DAYLIGHT
TZOFFSETFROM:-0500
TZOFFSETTO:-0400
TZNAME:EDT
DTSTART:20270314T070000
END:DAYLIGHT
BEGIN:STANDARD
TZOFFSETFROM:-0400
TZOFFSETTO:-0500
TZNAME:EST
DTSTART:20271107T060000
END:STANDARD
END:VTIMEZONE
BEGIN:VEVENT
DTSTART;TZID=America/New_York:20260413T163000
DTEND;TZID=America/New_York:20260413T173000
DTSTAMP:20260419T105629
CREATED:20240223T210328Z
LAST-MODIFIED:20240223T210328Z
UID:10001626-1776097800-1776101400@www.blackhillsinfosec.com
SUMMARY:BHIS Talkin' About Infosec News
DESCRIPTION:
URL:https://www.blackhillsinfosec.com/event/bhis-talkin-about-infosec-news/2026-04-13/
CATEGORIES:Livestream
END:VEVENT
BEGIN:VEVENT
DTSTART;TZID=America/New_York:20260406T163000
DTEND;TZID=America/New_York:20260406T173000
DTSTAMP:20260419T105629
CREATED:20240223T210328Z
LAST-MODIFIED:20240223T210328Z
UID:10001625-1775493000-1775496600@www.blackhillsinfosec.com
SUMMARY:BHIS Talkin' About Infosec News
DESCRIPTION:
URL:https://www.blackhillsinfosec.com/event/bhis-talkin-about-infosec-news/2026-04-06/
CATEGORIES:Livestream
END:VEVENT
BEGIN:VEVENT
DTSTART;TZID=America/New_York:20260330T163000
DTEND;TZID=America/New_York:20260330T173000
DTSTAMP:20260419T105629
CREATED:20240223T210328Z
LAST-MODIFIED:20240223T210328Z
UID:10001624-1774888200-1774891800@www.blackhillsinfosec.com
SUMMARY:BHIS Talkin' About Infosec News
DESCRIPTION:
URL:https://www.blackhillsinfosec.com/event/bhis-talkin-about-infosec-news/2026-03-30/
CATEGORIES:Livestream
END:VEVENT
BEGIN:VEVENT
DTSTART;TZID=America/New_York:20260323T163000
DTEND;TZID=America/New_York:20260323T173000
DTSTAMP:20260419T105629
CREATED:20240223T210328Z
LAST-MODIFIED:20240223T210328Z
UID:10001623-1774283400-1774287000@www.blackhillsinfosec.com
SUMMARY:BHIS Talkin' About Infosec News
DESCRIPTION:
URL:https://www.blackhillsinfosec.com/event/bhis-talkin-about-infosec-news/2026-03-23/
CATEGORIES:Livestream
END:VEVENT
BEGIN:VEVENT
DTSTART;TZID=America/New_York:20260316T163000
DTEND;TZID=America/New_York:20260316T173000
DTSTAMP:20260419T105629
CREATED:20240223T210328Z
LAST-MODIFIED:20240223T210328Z
UID:10001622-1773678600-1773682200@www.blackhillsinfosec.com
SUMMARY:BHIS Talkin' About Infosec News
DESCRIPTION:
URL:https://www.blackhillsinfosec.com/event/bhis-talkin-about-infosec-news/2026-03-16/
CATEGORIES:Livestream
END:VEVENT
BEGIN:VEVENT
DTSTART;TZID=America/New_York:20260309T163000
DTEND;TZID=America/New_York:20260309T173000
DTSTAMP:20260419T105629
CREATED:20240223T210328Z
LAST-MODIFIED:20240223T210328Z
UID:10001621-1773073800-1773077400@www.blackhillsinfosec.com
SUMMARY:BHIS Talkin' About Infosec News
DESCRIPTION:
URL:https://www.blackhillsinfosec.com/event/bhis-talkin-about-infosec-news/2026-03-09/
CATEGORIES:Livestream
END:VEVENT
BEGIN:VEVENT
DTSTART;TZID=America/New_York:20260302T163000
DTEND;TZID=America/New_York:20260302T173000
DTSTAMP:20260419T105629
CREATED:20240223T210328Z
LAST-MODIFIED:20240223T210328Z
UID:10001620-1772469000-1772472600@www.blackhillsinfosec.com
SUMMARY:BHIS Talkin' About Infosec News
DESCRIPTION:
URL:https://www.blackhillsinfosec.com/event/bhis-talkin-about-infosec-news/2026-03-02/
CATEGORIES:Livestream
END:VEVENT
BEGIN:VEVENT
DTSTART;TZID=America/New_York:20260223T163000
DTEND;TZID=America/New_York:20260223T173000
DTSTAMP:20260419T105629
CREATED:20240223T210328Z
LAST-MODIFIED:20240223T210328Z
UID:10001619-1771864200-1771867800@www.blackhillsinfosec.com
SUMMARY:BHIS Talkin' About Infosec News
DESCRIPTION:
URL:https://www.blackhillsinfosec.com/event/bhis-talkin-about-infosec-news/2026-02-23/
CATEGORIES:Livestream
END:VEVENT
BEGIN:VEVENT
DTSTART;TZID=America/New_York:20260216T163000
DTEND;TZID=America/New_York:20260216T173000
DTSTAMP:20260419T105629
CREATED:20240223T210328Z
LAST-MODIFIED:20240223T210328Z
UID:10001618-1771259400-1771263000@www.blackhillsinfosec.com
SUMMARY:BHIS Talkin' About Infosec News
DESCRIPTION:
URL:https://www.blackhillsinfosec.com/event/bhis-talkin-about-infosec-news/2026-02-16/
CATEGORIES:Livestream
END:VEVENT
BEGIN:VEVENT
DTSTART;TZID=America/New_York:20260209T163000
DTEND;TZID=America/New_York:20260209T173000
DTSTAMP:20260419T105629
CREATED:20240223T210328Z
LAST-MODIFIED:20240223T210328Z
UID:10001617-1770654600-1770658200@www.blackhillsinfosec.com
SUMMARY:BHIS Talkin' About Infosec News
DESCRIPTION:
URL:https://www.blackhillsinfosec.com/event/bhis-talkin-about-infosec-news/2026-02-09/
CATEGORIES:Livestream
END:VEVENT
BEGIN:VEVENT
DTSTART;TZID=America/New_York:20260202T163000
DTEND;TZID=America/New_York:20260202T173000
DTSTAMP:20260419T105629
CREATED:20240223T210328Z
LAST-MODIFIED:20240223T210328Z
UID:10001616-1770049800-1770053400@www.blackhillsinfosec.com
SUMMARY:BHIS Talkin' About Infosec News
DESCRIPTION:
URL:https://www.blackhillsinfosec.com/event/bhis-talkin-about-infosec-news/2026-02-02/
CATEGORIES:Livestream
END:VEVENT
BEGIN:VEVENT
DTSTART;TZID=America/New_York:20260126T163000
DTEND;TZID=America/New_York:20260126T173000
DTSTAMP:20260419T105629
CREATED:20240223T210328Z
LAST-MODIFIED:20240223T210328Z
UID:10001615-1769445000-1769448600@www.blackhillsinfosec.com
SUMMARY:BHIS Talkin' About Infosec News
DESCRIPTION:
URL:https://www.blackhillsinfosec.com/event/bhis-talkin-about-infosec-news/2026-01-26/
CATEGORIES:Livestream
END:VEVENT
BEGIN:VEVENT
DTSTART;TZID=America/New_York:20260119T163000
DTEND;TZID=America/New_York:20260119T173000
DTSTAMP:20260419T105629
CREATED:20240223T210328Z
LAST-MODIFIED:20240223T210328Z
UID:10001614-1768840200-1768843800@www.blackhillsinfosec.com
SUMMARY:BHIS Talkin' About Infosec News
DESCRIPTION:
URL:https://www.blackhillsinfosec.com/event/bhis-talkin-about-infosec-news/2026-01-19/
CATEGORIES:Livestream
END:VEVENT
BEGIN:VEVENT
DTSTART;TZID=America/New_York:20260112T163000
DTEND;TZID=America/New_York:20260112T173000
DTSTAMP:20260419T105629
CREATED:20240223T210328Z
LAST-MODIFIED:20240223T210328Z
UID:10001613-1768235400-1768239000@www.blackhillsinfosec.com
SUMMARY:BHIS Talkin' About Infosec News
DESCRIPTION:
URL:https://www.blackhillsinfosec.com/event/bhis-talkin-about-infosec-news/2026-01-12/
CATEGORIES:Livestream
END:VEVENT
BEGIN:VEVENT
DTSTART;TZID=America/New_York:20260105T163000
DTEND;TZID=America/New_York:20260105T173000
DTSTAMP:20260419T105629
CREATED:20240223T210328Z
LAST-MODIFIED:20240223T210328Z
UID:10001612-1767630600-1767634200@www.blackhillsinfosec.com
SUMMARY:BHIS Talkin' About Infosec News
DESCRIPTION:
URL:https://www.blackhillsinfosec.com/event/bhis-talkin-about-infosec-news/2026-01-05/
CATEGORIES:Livestream
END:VEVENT
BEGIN:VEVENT
DTSTART;TZID=America/New_York:20251229T163000
DTEND;TZID=America/New_York:20251229T173000
DTSTAMP:20260419T105629
CREATED:20240223T210328Z
LAST-MODIFIED:20240223T210328Z
UID:10001611-1767025800-1767029400@www.blackhillsinfosec.com
SUMMARY:BHIS Talkin' About Infosec News
DESCRIPTION:
URL:https://www.blackhillsinfosec.com/event/bhis-talkin-about-infosec-news/2025-12-29/
CATEGORIES:Livestream
END:VEVENT
BEGIN:VEVENT
DTSTART;TZID=America/New_York:20251222T163000
DTEND;TZID=America/New_York:20251222T173000
DTSTAMP:20260419T105629
CREATED:20240223T210328Z
LAST-MODIFIED:20240223T210328Z
UID:10001610-1766421000-1766424600@www.blackhillsinfosec.com
SUMMARY:BHIS Talkin' About Infosec News
DESCRIPTION:
URL:https://www.blackhillsinfosec.com/event/bhis-talkin-about-infosec-news/2025-12-22/
CATEGORIES:Livestream
END:VEVENT
BEGIN:VEVENT
DTSTART;TZID=America/New_York:20251215T163000
DTEND;TZID=America/New_York:20251215T173000
DTSTAMP:20260419T105629
CREATED:20240223T210328Z
LAST-MODIFIED:20240223T210328Z
UID:10001609-1765816200-1765819800@www.blackhillsinfosec.com
SUMMARY:BHIS Talkin' About Infosec News
DESCRIPTION:
URL:https://www.blackhillsinfosec.com/event/bhis-talkin-about-infosec-news/2025-12-15/
CATEGORIES:Livestream
END:VEVENT
BEGIN:VEVENT
DTSTART;TZID=America/New_York:20251208T163000
DTEND;TZID=America/New_York:20251208T173000
DTSTAMP:20260419T105629
CREATED:20240223T210328Z
LAST-MODIFIED:20240223T210328Z
UID:10001608-1765211400-1765215000@www.blackhillsinfosec.com
SUMMARY:BHIS Talkin' About Infosec News
DESCRIPTION:
URL:https://www.blackhillsinfosec.com/event/bhis-talkin-about-infosec-news/2025-12-08/
CATEGORIES:Livestream
END:VEVENT
BEGIN:VEVENT
DTSTART;TZID=America/New_York:20251201T163000
DTEND;TZID=America/New_York:20251201T173000
DTSTAMP:20260419T105629
CREATED:20240223T210328Z
LAST-MODIFIED:20240223T210328Z
UID:10001607-1764606600-1764610200@www.blackhillsinfosec.com
SUMMARY:BHIS Talkin' About Infosec News
DESCRIPTION:
URL:https://www.blackhillsinfosec.com/event/bhis-talkin-about-infosec-news/2025-12-01/
CATEGORIES:Livestream
END:VEVENT
BEGIN:VEVENT
DTSTART;TZID=America/New_York:20251124T163000
DTEND;TZID=America/New_York:20251124T173000
DTSTAMP:20260419T105629
CREATED:20240223T210328Z
LAST-MODIFIED:20240223T210328Z
UID:10001606-1764001800-1764005400@www.blackhillsinfosec.com
SUMMARY:BHIS Talkin' About Infosec News
DESCRIPTION:
URL:https://www.blackhillsinfosec.com/event/bhis-talkin-about-infosec-news/2025-11-24/
CATEGORIES:Livestream
END:VEVENT
BEGIN:VEVENT
DTSTART;TZID=America/New_York:20251117T163000
DTEND;TZID=America/New_York:20251117T173000
DTSTAMP:20260419T105629
CREATED:20240223T210328Z
LAST-MODIFIED:20240223T210328Z
UID:10001605-1763397000-1763400600@www.blackhillsinfosec.com
SUMMARY:BHIS Talkin' About Infosec News
DESCRIPTION:
URL:https://www.blackhillsinfosec.com/event/bhis-talkin-about-infosec-news/2025-11-17/
CATEGORIES:Livestream
END:VEVENT
BEGIN:VEVENT
DTSTART;TZID=America/New_York:20251110T163000
DTEND;TZID=America/New_York:20251110T173000
DTSTAMP:20260419T105629
CREATED:20240223T210328Z
LAST-MODIFIED:20240223T210328Z
UID:10001604-1762792200-1762795800@www.blackhillsinfosec.com
SUMMARY:BHIS Talkin' About Infosec News
DESCRIPTION:
URL:https://www.blackhillsinfosec.com/event/bhis-talkin-about-infosec-news/2025-11-10/
CATEGORIES:Livestream
END:VEVENT
BEGIN:VEVENT
DTSTART;TZID=America/New_York:20251103T163000
DTEND;TZID=America/New_York:20251103T173000
DTSTAMP:20260419T105629
CREATED:20240223T210328Z
LAST-MODIFIED:20240223T210328Z
UID:10001603-1762187400-1762191000@www.blackhillsinfosec.com
SUMMARY:BHIS Talkin' About Infosec News
DESCRIPTION:
URL:https://www.blackhillsinfosec.com/event/bhis-talkin-about-infosec-news/2025-11-03/
CATEGORIES:Livestream
END:VEVENT
BEGIN:VEVENT
DTSTART;TZID=America/New_York:20251027T163000
DTEND;TZID=America/New_York:20251027T173000
DTSTAMP:20260419T105629
CREATED:20240223T210328Z
LAST-MODIFIED:20240223T210328Z
UID:10001602-1761582600-1761586200@www.blackhillsinfosec.com
SUMMARY:BHIS Talkin' About Infosec News
DESCRIPTION:
URL:https://www.blackhillsinfosec.com/event/bhis-talkin-about-infosec-news/2025-10-27/
CATEGORIES:Livestream
END:VEVENT
BEGIN:VEVENT
DTSTART;TZID=America/New_York:20251020T163000
DTEND;TZID=America/New_York:20251020T173000
DTSTAMP:20260419T105629
CREATED:20240223T210328Z
LAST-MODIFIED:20240223T210328Z
UID:10001601-1760977800-1760981400@www.blackhillsinfosec.com
SUMMARY:BHIS Talkin' About Infosec News
DESCRIPTION:
URL:https://www.blackhillsinfosec.com/event/bhis-talkin-about-infosec-news/2025-10-20/
CATEGORIES:Livestream
END:VEVENT
BEGIN:VEVENT
DTSTART;TZID=America/New_York:20251013T163000
DTEND;TZID=America/New_York:20251013T173000
DTSTAMP:20260419T105629
CREATED:20240223T210328Z
LAST-MODIFIED:20240223T210328Z
UID:10001600-1760373000-1760376600@www.blackhillsinfosec.com
SUMMARY:BHIS Talkin' About Infosec News
DESCRIPTION:
URL:https://www.blackhillsinfosec.com/event/bhis-talkin-about-infosec-news/2025-10-13/
CATEGORIES:Livestream
END:VEVENT
BEGIN:VEVENT
DTSTART;TZID=America/New_York:20251006T163000
DTEND;TZID=America/New_York:20251006T173000
DTSTAMP:20260419T105629
CREATED:20240223T210328Z
LAST-MODIFIED:20240223T210328Z
UID:10001599-1759768200-1759771800@www.blackhillsinfosec.com
SUMMARY:BHIS Talkin' About Infosec News
DESCRIPTION:
URL:https://www.blackhillsinfosec.com/event/bhis-talkin-about-infosec-news/2025-10-06/
CATEGORIES:Livestream
END:VEVENT
BEGIN:VEVENT
DTSTART;TZID=America/New_York:20250929T163000
DTEND;TZID=America/New_York:20250929T173000
DTSTAMP:20260419T105629
CREATED:20240223T210328Z
LAST-MODIFIED:20240223T210328Z
UID:10001598-1759163400-1759167000@www.blackhillsinfosec.com
SUMMARY:BHIS Talkin' About Infosec News
DESCRIPTION:
URL:https://www.blackhillsinfosec.com/event/bhis-talkin-about-infosec-news/2025-09-29/
CATEGORIES:Livestream
END:VEVENT
BEGIN:VEVENT
DTSTART;TZID=America/New_York:20250922T163000
DTEND;TZID=America/New_York:20250922T173000
DTSTAMP:20260419T105629
CREATED:20240223T210328Z
LAST-MODIFIED:20240223T210328Z
UID:10001597-1758558600-1758562200@www.blackhillsinfosec.com
SUMMARY:BHIS Talkin' About Infosec News
DESCRIPTION:
URL:https://www.blackhillsinfosec.com/event/bhis-talkin-about-infosec-news/2025-09-22/
CATEGORIES:Livestream
END:VEVENT
END:VCALENDAR