BEGIN:VCALENDAR
VERSION:2.0
PRODID:-//Black Hills Information Security, Inc. - ECPv6.15.20//NONSGML v1.0//EN
CALSCALE:GREGORIAN
METHOD:PUBLISH
X-WR-CALNAME:Black Hills Information Security, Inc.
X-ORIGINAL-URL:https://www.blackhillsinfosec.com
X-WR-CALDESC:Events for Black Hills Information Security, Inc.
REFRESH-INTERVAL;VALUE=DURATION:PT1H
X-Robots-Tag:noindex
X-PUBLISHED-TTL:PT1H
BEGIN:VTIMEZONE
TZID:America/New_York
BEGIN:DAYLIGHT
TZOFFSETFROM:-0500
TZOFFSETTO:-0400
TZNAME:EDT
DTSTART:20210314T070000
END:DAYLIGHT
BEGIN:STANDARD
TZOFFSETFROM:-0400
TZOFFSETTO:-0500
TZNAME:EST
DTSTART:20211107T060000
END:STANDARD
BEGIN:DAYLIGHT
TZOFFSETFROM:-0500
TZOFFSETTO:-0400
TZNAME:EDT
DTSTART:20220313T070000
END:DAYLIGHT
BEGIN:STANDARD
TZOFFSETFROM:-0400
TZOFFSETTO:-0500
TZNAME:EST
DTSTART:20221106T060000
END:STANDARD
BEGIN:DAYLIGHT
TZOFFSETFROM:-0500
TZOFFSETTO:-0400
TZNAME:EDT
DTSTART:20230312T070000
END:DAYLIGHT
BEGIN:STANDARD
TZOFFSETFROM:-0400
TZOFFSETTO:-0500
TZNAME:EST
DTSTART:20231105T060000
END:STANDARD
END:VTIMEZONE
BEGIN:VEVENT
DTSTART;TZID=America/New_York:20220815T163000
DTEND;TZID=America/New_York:20220815T173000
DTSTAMP:20260422T042646
CREATED:20220624T174740Z
LAST-MODIFIED:20220627T143602Z
UID:10000399-1660581000-1660584600@www.blackhillsinfosec.com
SUMMARY:BHIS | Talkin' Bout Infosec News
DESCRIPTION:Join the BHIS team as we talk about current infosec news. \nStreamed live every Monday @ 4:30 pm. \nhttps://www.youtube.com/BlackHillsInformationSecurity
URL:https://www.blackhillsinfosec.com/event/bhis-talkin-bout-infosec-news/2022-08-15/
CATEGORIES:Newscast
ATTACH;FMTTYPE=image/jpeg:https://www.blackhillsinfosec.com/wp-content/uploads/2022/06/MicrosoftTeams-image-10.jpg
END:VEVENT
BEGIN:VEVENT
DTSTART;TZID=America/New_York:20220808T163000
DTEND;TZID=America/New_York:20220808T173000
DTSTAMP:20260422T042646
CREATED:20220624T174740Z
LAST-MODIFIED:20220627T143602Z
UID:10000398-1659976200-1659979800@www.blackhillsinfosec.com
SUMMARY:BHIS | Talkin' Bout Infosec News
DESCRIPTION:Join the BHIS team as we talk about current infosec news. \nStreamed live every Monday @ 4:30 pm. \nhttps://www.youtube.com/BlackHillsInformationSecurity
URL:https://www.blackhillsinfosec.com/event/bhis-talkin-bout-infosec-news/2022-08-08/
CATEGORIES:Newscast
ATTACH;FMTTYPE=image/jpeg:https://www.blackhillsinfosec.com/wp-content/uploads/2022/06/MicrosoftTeams-image-10.jpg
END:VEVENT
BEGIN:VEVENT
DTSTART;TZID=America/New_York:20220801T163000
DTEND;TZID=America/New_York:20220801T173000
DTSTAMP:20260422T042646
CREATED:20220624T174740Z
LAST-MODIFIED:20220627T143602Z
UID:10000397-1659371400-1659375000@www.blackhillsinfosec.com
SUMMARY:BHIS | Talkin' Bout Infosec News
DESCRIPTION:Join the BHIS team as we talk about current infosec news. \nStreamed live every Monday @ 4:30 pm. \nhttps://www.youtube.com/BlackHillsInformationSecurity
URL:https://www.blackhillsinfosec.com/event/bhis-talkin-bout-infosec-news/2022-08-01/
CATEGORIES:Newscast
ATTACH;FMTTYPE=image/jpeg:https://www.blackhillsinfosec.com/wp-content/uploads/2022/06/MicrosoftTeams-image-10.jpg
END:VEVENT
BEGIN:VEVENT
DTSTART;TZID=America/New_York:20220725T163000
DTEND;TZID=America/New_York:20220725T173000
DTSTAMP:20260422T042646
CREATED:20220624T174740Z
LAST-MODIFIED:20220627T143602Z
UID:10000396-1658766600-1658770200@www.blackhillsinfosec.com
SUMMARY:BHIS | Talkin' Bout Infosec News
DESCRIPTION:Join the BHIS team as we talk about current infosec news. \nStreamed live every Monday @ 4:30 pm. \nhttps://www.youtube.com/BlackHillsInformationSecurity
URL:https://www.blackhillsinfosec.com/event/bhis-talkin-bout-infosec-news/2022-07-25/
CATEGORIES:Newscast
ATTACH;FMTTYPE=image/jpeg:https://www.blackhillsinfosec.com/wp-content/uploads/2022/06/MicrosoftTeams-image-10.jpg
END:VEVENT
BEGIN:VEVENT
DTSTART;TZID=America/New_York:20220718T163000
DTEND;TZID=America/New_York:20220718T173000
DTSTAMP:20260422T042646
CREATED:20220624T174740Z
LAST-MODIFIED:20220627T143602Z
UID:10000395-1658161800-1658165400@www.blackhillsinfosec.com
SUMMARY:BHIS | Talkin' Bout Infosec News
DESCRIPTION:Join the BHIS team as we talk about current infosec news. \nStreamed live every Monday @ 4:30 pm. \nhttps://www.youtube.com/BlackHillsInformationSecurity
URL:https://www.blackhillsinfosec.com/event/bhis-talkin-bout-infosec-news/2022-07-18/
CATEGORIES:Newscast
ATTACH;FMTTYPE=image/jpeg:https://www.blackhillsinfosec.com/wp-content/uploads/2022/06/MicrosoftTeams-image-10.jpg
END:VEVENT
BEGIN:VEVENT
DTSTART;TZID=America/New_York:20220711T163000
DTEND;TZID=America/New_York:20220711T173000
DTSTAMP:20260422T042646
CREATED:20220624T174740Z
LAST-MODIFIED:20220627T143602Z
UID:10000394-1657557000-1657560600@www.blackhillsinfosec.com
SUMMARY:BHIS | Talkin' Bout Infosec News
DESCRIPTION:Join the BHIS team as we talk about current infosec news. \nStreamed live every Monday @ 4:30 pm. \nhttps://www.youtube.com/BlackHillsInformationSecurity
URL:https://www.blackhillsinfosec.com/event/bhis-talkin-bout-infosec-news/2022-07-11/
CATEGORIES:Newscast
ATTACH;FMTTYPE=image/jpeg:https://www.blackhillsinfosec.com/wp-content/uploads/2022/06/MicrosoftTeams-image-10.jpg
END:VEVENT
BEGIN:VEVENT
DTSTART;TZID=America/New_York:20220704T163000
DTEND;TZID=America/New_York:20220704T173000
DTSTAMP:20260422T042646
CREATED:20220624T174740Z
LAST-MODIFIED:20220627T143602Z
UID:10000393-1656952200-1656955800@www.blackhillsinfosec.com
SUMMARY:BHIS | Talkin' Bout Infosec News
DESCRIPTION:Join the BHIS team as we talk about current infosec news. \nStreamed live every Monday @ 4:30 pm. \nhttps://www.youtube.com/BlackHillsInformationSecurity
URL:https://www.blackhillsinfosec.com/event/bhis-talkin-bout-infosec-news/2022-07-04/
CATEGORIES:Newscast
ATTACH;FMTTYPE=image/jpeg:https://www.blackhillsinfosec.com/wp-content/uploads/2022/06/MicrosoftTeams-image-10.jpg
END:VEVENT
BEGIN:VEVENT
DTSTART;TZID=America/New_York:20220627T163000
DTEND;TZID=America/New_York:20220627T173000
DTSTAMP:20260422T042646
CREATED:20220624T174740Z
LAST-MODIFIED:20220627T143602Z
UID:10000392-1656347400-1656351000@www.blackhillsinfosec.com
SUMMARY:BHIS | Talkin' Bout Infosec News
DESCRIPTION:Join the BHIS team as we talk about current infosec news. \nStreamed live every Monday @ 4:30 pm. \nhttps://www.youtube.com/BlackHillsInformationSecurity
URL:https://www.blackhillsinfosec.com/event/bhis-talkin-bout-infosec-news/2022-06-27/
CATEGORIES:Newscast
ATTACH;FMTTYPE=image/jpeg:https://www.blackhillsinfosec.com/wp-content/uploads/2022/06/MicrosoftTeams-image-10.jpg
END:VEVENT
END:VCALENDAR