BEGIN:VCALENDAR
VERSION:2.0
PRODID:-//Black Hills Information Security, Inc. - ECPv6.15.20//NONSGML v1.0//EN
CALSCALE:GREGORIAN
METHOD:PUBLISH
X-ORIGINAL-URL:https://www.blackhillsinfosec.com
X-WR-CALDESC:Events for Black Hills Information Security, Inc.
REFRESH-INTERVAL;VALUE=DURATION:PT1H
X-Robots-Tag:noindex
X-PUBLISHED-TTL:PT1H
BEGIN:VTIMEZONE
TZID:America/New_York
BEGIN:DAYLIGHT
TZOFFSETFROM:-0500
TZOFFSETTO:-0400
TZNAME:EDT
DTSTART:20230312T070000
END:DAYLIGHT
BEGIN:STANDARD
TZOFFSETFROM:-0400
TZOFFSETTO:-0500
TZNAME:EST
DTSTART:20231105T060000
END:STANDARD
BEGIN:DAYLIGHT
TZOFFSETFROM:-0500
TZOFFSETTO:-0400
TZNAME:EDT
DTSTART:20240310T070000
END:DAYLIGHT
BEGIN:STANDARD
TZOFFSETFROM:-0400
TZOFFSETTO:-0500
TZNAME:EST
DTSTART:20241103T060000
END:STANDARD
BEGIN:DAYLIGHT
TZOFFSETFROM:-0500
TZOFFSETTO:-0400
TZNAME:EDT
DTSTART:20250309T070000
END:DAYLIGHT
BEGIN:STANDARD
TZOFFSETFROM:-0400
TZOFFSETTO:-0500
TZNAME:EST
DTSTART:20251102T060000
END:STANDARD
END:VTIMEZONE
BEGIN:VEVENT
DTSTART;TZID=America/New_York:20240111T130000
DTEND;TZID=America/New_York:20240111T140000
DTSTAMP:20260425T235657
CREATED:20231222T182933Z
LAST-MODIFIED:20231222T182933Z
UID:10000974-1704978000-1704981600@www.blackhillsinfosec.com
SUMMARY:BHIS Webcast: How to Annoy Attackers so they Cry w/ John Strand | 1-Hour
DESCRIPTION:In this free one-hour Black Hills Information Security (BHIS) webcast I’ll share my favorite ways of making an attacker’s day just the worst. \nDon’t you want to make the attackers’ lives miserable? \n Because you can. \n And it will bring you joy. \n So much joy! \n In this free one-hour Black Hills Information Security (BHIS) webcast I’ll share my favorite ways of making an attacker’s day just the worst. \n We’ll cover active defense and cyber deception techniques you can implement immediately to help protect your organization today. \nChat with your fellow attendees in the Black Hills Infosec Discord server here: https://discord.gg/BHIS — in #🔴webcast-live-chat
URL:https://www.blackhillsinfosec.com/event/bhis-webcast-how-to-annoy-attackers-so-they-cry-w-john-strand-1-hour/
CATEGORIES:BHIS Webcast
END:VEVENT
BEGIN:VEVENT
DTSTART;TZID=America/New_York:20240118T130000
DTEND;TZID=America/New_York:20240118T140000
DTSTAMP:20260425T235657
CREATED:20231222T183720Z
LAST-MODIFIED:20231222T183722Z
UID:10000975-1705582800-1705586400@www.blackhillsinfosec.com
SUMMARY:BHIS Webcast w/ Ayub
DESCRIPTION:
URL:https://www.blackhillsinfosec.com/event/bhis-webcast-2-2/
CATEGORIES:BHIS Webcast
END:VEVENT
BEGIN:VEVENT
DTSTART;TZID=America/New_York:20240118T143000
DTEND;TZID=America/New_York:20240118T153000
DTSTAMP:20260425T235657
CREATED:20231222T184010Z
LAST-MODIFIED:20231222T184010Z
UID:10001233-1705588200-1705591800@www.blackhillsinfosec.com
SUMMARY:BHIS Webcast: The Infosec Survival Guide w/ Community
DESCRIPTION:
URL:https://www.blackhillsinfosec.com/event/bhis-webcast-the-infosec-survival-guide-w-community/
CATEGORIES:BHIS Webcast
END:VEVENT
BEGIN:VEVENT
DTSTART;TZID=America/New_York:20240125T130000
DTEND;TZID=America/New_York:20240125T140000
DTSTAMP:20260425T235657
CREATED:20231222T183916Z
LAST-MODIFIED:20240123T153719Z
UID:10000976-1706187600-1706191200@www.blackhillsinfosec.com
SUMMARY:BHIS Webcast w/ Matthew Eidelberg
DESCRIPTION:
URL:https://www.blackhillsinfosec.com/event/bhis-webcast-2-3/
CATEGORIES:BHIS Webcast
ATTACH;FMTTYPE=image/jpeg:https://www.blackhillsinfosec.com/wp-content/uploads/2023/12/webcast_RustFundamentalsforInfosec.jpg
END:VEVENT
END:VCALENDAR