BEGIN:VCALENDAR
VERSION:2.0
PRODID:-//Black Hills Information Security, Inc. - ECPv6.15.20//NONSGML v1.0//EN
CALSCALE:GREGORIAN
METHOD:PUBLISH
X-WR-CALNAME:Black Hills Information Security, Inc.
X-ORIGINAL-URL:https://www.blackhillsinfosec.com
X-WR-CALDESC:Events for Black Hills Information Security, Inc.
REFRESH-INTERVAL;VALUE=DURATION:PT1H
X-Robots-Tag:noindex
X-PUBLISHED-TTL:PT1H
BEGIN:VTIMEZONE
TZID:America/New_York
BEGIN:DAYLIGHT
TZOFFSETFROM:-0500
TZOFFSETTO:-0400
TZNAME:EDT
DTSTART:20260308T070000
END:DAYLIGHT
BEGIN:STANDARD
TZOFFSETFROM:-0400
TZOFFSETTO:-0500
TZNAME:EST
DTSTART:20261101T060000
END:STANDARD
BEGIN:DAYLIGHT
TZOFFSETFROM:-0500
TZOFFSETTO:-0400
TZNAME:EDT
DTSTART:20270314T070000
END:DAYLIGHT
BEGIN:STANDARD
TZOFFSETFROM:-0400
TZOFFSETTO:-0500
TZNAME:EST
DTSTART:20271107T060000
END:STANDARD
BEGIN:DAYLIGHT
TZOFFSETFROM:-0500
TZOFFSETTO:-0400
TZNAME:EDT
DTSTART:20280312T070000
END:DAYLIGHT
BEGIN:STANDARD
TZOFFSETFROM:-0400
TZOFFSETTO:-0500
TZNAME:EST
DTSTART:20281105T060000
END:STANDARD
END:VTIMEZONE
BEGIN:VEVENT
DTSTART;TZID=America/New_York:20270506T130000
DTEND;TZID=America/New_York:20270506T140000
DTSTAMP:20260419T144251
CREATED:20231222T183054Z
LAST-MODIFIED:20250513T164408Z
UID:10001147-1809608400-1809612000@www.blackhillsinfosec.com
SUMMARY:BHIS Webcast
DESCRIPTION:https://poweredbybhis.com/
URL:https://www.blackhillsinfosec.com/event/bhis-webcast-2/2027-05-06/
CATEGORIES:BHIS Webcast
END:VEVENT
BEGIN:VEVENT
DTSTART;TZID=America/New_York:20270513T130000
DTEND;TZID=America/New_York:20270513T140000
DTSTAMP:20260419T144251
CREATED:20231222T183054Z
LAST-MODIFIED:20250513T164408Z
UID:10001148-1810213200-1810216800@www.blackhillsinfosec.com
SUMMARY:BHIS Webcast
DESCRIPTION:https://poweredbybhis.com/
URL:https://www.blackhillsinfosec.com/event/bhis-webcast-2/2027-05-13/
CATEGORIES:BHIS Webcast
END:VEVENT
BEGIN:VEVENT
DTSTART;TZID=America/New_York:20270520T130000
DTEND;TZID=America/New_York:20270520T140000
DTSTAMP:20260419T144251
CREATED:20231222T183054Z
LAST-MODIFIED:20250513T164408Z
UID:10001149-1810818000-1810821600@www.blackhillsinfosec.com
SUMMARY:BHIS Webcast
DESCRIPTION:https://poweredbybhis.com/
URL:https://www.blackhillsinfosec.com/event/bhis-webcast-2/2027-05-20/
CATEGORIES:BHIS Webcast
END:VEVENT
BEGIN:VEVENT
DTSTART;TZID=America/New_York:20270527T130000
DTEND;TZID=America/New_York:20270527T140000
DTSTAMP:20260419T144251
CREATED:20231222T183054Z
LAST-MODIFIED:20250513T164408Z
UID:10001150-1811422800-1811426400@www.blackhillsinfosec.com
SUMMARY:BHIS Webcast
DESCRIPTION:https://poweredbybhis.com/
URL:https://www.blackhillsinfosec.com/event/bhis-webcast-2/2027-05-27/
CATEGORIES:BHIS Webcast
END:VEVENT
END:VCALENDAR