BEGIN:VCALENDAR
VERSION:2.0
PRODID:-//Black Hills Information Security, Inc. - ECPv6.15.20//NONSGML v1.0//EN
CALSCALE:GREGORIAN
METHOD:PUBLISH
X-ORIGINAL-URL:https://www.blackhillsinfosec.com
X-WR-CALDESC:Events for Black Hills Information Security, Inc.
REFRESH-INTERVAL;VALUE=DURATION:PT1H
X-Robots-Tag:noindex
X-PUBLISHED-TTL:PT1H
BEGIN:VTIMEZONE
TZID:America/New_York
BEGIN:DAYLIGHT
TZOFFSETFROM:-0500
TZOFFSETTO:-0400
TZNAME:EDT
DTSTART:20260308T070000
END:DAYLIGHT
BEGIN:STANDARD
TZOFFSETFROM:-0400
TZOFFSETTO:-0500
TZNAME:EST
DTSTART:20261101T060000
END:STANDARD
BEGIN:DAYLIGHT
TZOFFSETFROM:-0500
TZOFFSETTO:-0400
TZNAME:EDT
DTSTART:20270314T070000
END:DAYLIGHT
BEGIN:STANDARD
TZOFFSETFROM:-0400
TZOFFSETTO:-0500
TZNAME:EST
DTSTART:20271107T060000
END:STANDARD
BEGIN:DAYLIGHT
TZOFFSETFROM:-0500
TZOFFSETTO:-0400
TZNAME:EDT
DTSTART:20280312T070000
END:DAYLIGHT
BEGIN:STANDARD
TZOFFSETFROM:-0400
TZOFFSETTO:-0500
TZNAME:EST
DTSTART:20281105T060000
END:STANDARD
END:VTIMEZONE
BEGIN:VEVENT
DTSTART;TZID=America/New_York:20270701T130000
DTEND;TZID=America/New_York:20270701T140000
DTSTAMP:20260420T022939
CREATED:20231222T183054Z
LAST-MODIFIED:20250513T164408Z
UID:10001155-1814446800-1814450400@www.blackhillsinfosec.com
SUMMARY:BHIS Webcast
DESCRIPTION:https://poweredbybhis.com/
URL:https://www.blackhillsinfosec.com/event/bhis-webcast-2/2027-07-01/
CATEGORIES:BHIS Webcast
END:VEVENT
BEGIN:VEVENT
DTSTART;TZID=America/New_York:20270708T130000
DTEND;TZID=America/New_York:20270708T140000
DTSTAMP:20260420T022939
CREATED:20231222T183054Z
LAST-MODIFIED:20250513T164408Z
UID:10001156-1815051600-1815055200@www.blackhillsinfosec.com
SUMMARY:BHIS Webcast
DESCRIPTION:https://poweredbybhis.com/
URL:https://www.blackhillsinfosec.com/event/bhis-webcast-2/2027-07-08/
CATEGORIES:BHIS Webcast
END:VEVENT
BEGIN:VEVENT
DTSTART;TZID=America/New_York:20270715T130000
DTEND;TZID=America/New_York:20270715T140000
DTSTAMP:20260420T022939
CREATED:20231222T183054Z
LAST-MODIFIED:20250513T164408Z
UID:10001157-1815656400-1815660000@www.blackhillsinfosec.com
SUMMARY:BHIS Webcast
DESCRIPTION:https://poweredbybhis.com/
URL:https://www.blackhillsinfosec.com/event/bhis-webcast-2/2027-07-15/
CATEGORIES:BHIS Webcast
END:VEVENT
BEGIN:VEVENT
DTSTART;TZID=America/New_York:20270722T130000
DTEND;TZID=America/New_York:20270722T140000
DTSTAMP:20260420T022939
CREATED:20231222T183054Z
LAST-MODIFIED:20250513T164408Z
UID:10001158-1816261200-1816264800@www.blackhillsinfosec.com
SUMMARY:BHIS Webcast
DESCRIPTION:https://poweredbybhis.com/
URL:https://www.blackhillsinfosec.com/event/bhis-webcast-2/2027-07-22/
CATEGORIES:BHIS Webcast
END:VEVENT
BEGIN:VEVENT
DTSTART;TZID=America/New_York:20270729T130000
DTEND;TZID=America/New_York:20270729T140000
DTSTAMP:20260420T022939
CREATED:20231222T183054Z
LAST-MODIFIED:20250513T164408Z
UID:10001159-1816866000-1816869600@www.blackhillsinfosec.com
SUMMARY:BHIS Webcast
DESCRIPTION:https://poweredbybhis.com/
URL:https://www.blackhillsinfosec.com/event/bhis-webcast-2/2027-07-29/
CATEGORIES:BHIS Webcast
END:VEVENT
END:VCALENDAR