BEGIN:VCALENDAR
VERSION:2.0
PRODID:-//Black Hills Information Security, Inc. - ECPv6.15.20//NONSGML v1.0//EN
CALSCALE:GREGORIAN
METHOD:PUBLISH
X-ORIGINAL-URL:https://www.blackhillsinfosec.com
X-WR-CALDESC:Events for Black Hills Information Security, Inc.
REFRESH-INTERVAL;VALUE=DURATION:PT1H
X-Robots-Tag:noindex
X-PUBLISHED-TTL:PT1H
BEGIN:VTIMEZONE
TZID:America/New_York
BEGIN:DAYLIGHT
TZOFFSETFROM:-0500
TZOFFSETTO:-0400
TZNAME:EDT
DTSTART:20270314T070000
END:DAYLIGHT
BEGIN:STANDARD
TZOFFSETFROM:-0400
TZOFFSETTO:-0500
TZNAME:EST
DTSTART:20271107T060000
END:STANDARD
BEGIN:DAYLIGHT
TZOFFSETFROM:-0500
TZOFFSETTO:-0400
TZNAME:EDT
DTSTART:20280312T070000
END:DAYLIGHT
BEGIN:STANDARD
TZOFFSETFROM:-0400
TZOFFSETTO:-0500
TZNAME:EST
DTSTART:20281105T060000
END:STANDARD
BEGIN:DAYLIGHT
TZOFFSETFROM:-0500
TZOFFSETTO:-0400
TZNAME:EDT
DTSTART:20290311T070000
END:DAYLIGHT
BEGIN:STANDARD
TZOFFSETFROM:-0400
TZOFFSETTO:-0500
TZNAME:EST
DTSTART:20291104T060000
END:STANDARD
END:VTIMEZONE
BEGIN:VTIMEZONE
TZID:America/New_York
BEGIN:DAYLIGHT
TZOFFSETFROM:-0500
TZOFFSETTO:-0400
TZNAME:EDT
DTSTART:20270314T070000
END:DAYLIGHT
BEGIN:STANDARD
TZOFFSETFROM:-0400
TZOFFSETTO:-0500
TZNAME:EST
DTSTART:20271107T060000
END:STANDARD
BEGIN:DAYLIGHT
TZOFFSETFROM:-0500
TZOFFSETTO:-0400
TZNAME:EDT
DTSTART:20280312T070000
END:DAYLIGHT
BEGIN:STANDARD
TZOFFSETFROM:-0400
TZOFFSETTO:-0500
TZNAME:EST
DTSTART:20281105T060000
END:STANDARD
BEGIN:DAYLIGHT
TZOFFSETFROM:-0500
TZOFFSETTO:-0400
TZNAME:EDT
DTSTART:20290311T070000
END:DAYLIGHT
BEGIN:STANDARD
TZOFFSETFROM:-0400
TZOFFSETTO:-0500
TZNAME:EST
DTSTART:20291104T060000
END:STANDARD
END:VTIMEZONE
BEGIN:VEVENT
DTSTART;TZID=America/New_York:20280309T130000
DTEND;TZID=America/New_York:20280309T140000
DTSTAMP:20260422T184123
CREATED:20231222T183054Z
LAST-MODIFIED:20250513T164408Z
UID:10001191-1836219600-1836223200@www.blackhillsinfosec.com
SUMMARY:BHIS Webcast
DESCRIPTION:https://poweredbybhis.com/
URL:https://www.blackhillsinfosec.com/event/bhis-webcast-2/2028-03-09/
CATEGORIES:BHIS Webcast
END:VEVENT
BEGIN:VEVENT
DTSTART;TZID=America/New_York:20280313T163000
DTEND;TZID=America/New_York:20280313T173000
DTSTAMP:20260422T184123
CREATED:20240223T210328Z
LAST-MODIFIED:20240223T210328Z
UID:10001726-1836577800-1836581400@www.blackhillsinfosec.com
SUMMARY:BHIS Talkin' About Infosec News
DESCRIPTION:
URL:https://www.blackhillsinfosec.com/event/bhis-talkin-about-infosec-news/2028-03-13/
CATEGORIES:Livestream
END:VEVENT
BEGIN:VEVENT
DTSTART;TZID=America/New_York:20280315T120000
DTEND;TZID=America/New_York:20280315T130000
DTSTAMP:20260422T184123
CREATED:20231222T190134Z
LAST-MODIFIED:20240223T210425Z
UID:10001454-1836734400-1836738000@www.blackhillsinfosec.com
SUMMARY:Antisyphon Anticast
DESCRIPTION:
URL:https://www.blackhillsinfosec.com/event/antisyphon-webcast/2028-03-15/
CATEGORIES:Antisyphon Webcast
END:VEVENT
BEGIN:VEVENT
DTSTART;TZID=America/New_York:20280316T130000
DTEND;TZID=America/New_York:20280316T140000
DTSTAMP:20260422T184123
CREATED:20231222T183054Z
LAST-MODIFIED:20250513T164408Z
UID:10001192-1836824400-1836828000@www.blackhillsinfosec.com
SUMMARY:BHIS Webcast
DESCRIPTION:https://poweredbybhis.com/
URL:https://www.blackhillsinfosec.com/event/bhis-webcast-2/2028-03-16/
CATEGORIES:BHIS Webcast
END:VEVENT
BEGIN:VEVENT
DTSTART;TZID=America/New_York:20280320T163000
DTEND;TZID=America/New_York:20280320T173000
DTSTAMP:20260422T184123
CREATED:20240223T210328Z
LAST-MODIFIED:20240223T210328Z
UID:10001727-1837182600-1837186200@www.blackhillsinfosec.com
SUMMARY:BHIS Talkin' About Infosec News
DESCRIPTION:
URL:https://www.blackhillsinfosec.com/event/bhis-talkin-about-infosec-news/2028-03-20/
CATEGORIES:Livestream
END:VEVENT
BEGIN:VEVENT
DTSTART;TZID=America/New_York:20280322T120000
DTEND;TZID=America/New_York:20280322T130000
DTSTAMP:20260422T184123
CREATED:20231222T190134Z
LAST-MODIFIED:20240223T210425Z
UID:10001455-1837339200-1837342800@www.blackhillsinfosec.com
SUMMARY:Antisyphon Anticast
DESCRIPTION:
URL:https://www.blackhillsinfosec.com/event/antisyphon-webcast/2028-03-22/
CATEGORIES:Antisyphon Webcast
END:VEVENT
BEGIN:VEVENT
DTSTART;TZID=America/New_York:20280323T130000
DTEND;TZID=America/New_York:20280323T140000
DTSTAMP:20260422T184123
CREATED:20231222T183054Z
LAST-MODIFIED:20250513T164408Z
UID:10001193-1837429200-1837432800@www.blackhillsinfosec.com
SUMMARY:BHIS Webcast
DESCRIPTION:https://poweredbybhis.com/
URL:https://www.blackhillsinfosec.com/event/bhis-webcast-2/2028-03-23/
CATEGORIES:BHIS Webcast
END:VEVENT
BEGIN:VEVENT
DTSTART;TZID=America/New_York:20280327T163000
DTEND;TZID=America/New_York:20280327T173000
DTSTAMP:20260422T184123
CREATED:20240223T210328Z
LAST-MODIFIED:20240223T210328Z
UID:10001728-1837787400-1837791000@www.blackhillsinfosec.com
SUMMARY:BHIS Talkin' About Infosec News
DESCRIPTION:
URL:https://www.blackhillsinfosec.com/event/bhis-talkin-about-infosec-news/2028-03-27/
CATEGORIES:Livestream
END:VEVENT
BEGIN:VEVENT
DTSTART;TZID=America/New_York:20280329T120000
DTEND;TZID=America/New_York:20280329T130000
DTSTAMP:20260422T184123
CREATED:20231222T190134Z
LAST-MODIFIED:20240223T210425Z
UID:10001456-1837944000-1837947600@www.blackhillsinfosec.com
SUMMARY:Antisyphon Anticast
DESCRIPTION:
URL:https://www.blackhillsinfosec.com/event/antisyphon-webcast/2028-03-29/
CATEGORIES:Antisyphon Webcast
END:VEVENT
BEGIN:VEVENT
DTSTART;TZID=America/New_York:20280330T130000
DTEND;TZID=America/New_York:20280330T140000
DTSTAMP:20260422T184123
CREATED:20231222T183054Z
LAST-MODIFIED:20250513T164408Z
UID:10001194-1838034000-1838037600@www.blackhillsinfosec.com
SUMMARY:BHIS Webcast
DESCRIPTION:https://poweredbybhis.com/
URL:https://www.blackhillsinfosec.com/event/bhis-webcast-2/2028-03-30/
CATEGORIES:BHIS Webcast
END:VEVENT
BEGIN:VEVENT
DTSTART;TZID=America/New_York:20280403T163000
DTEND;TZID=America/New_York:20280403T173000
DTSTAMP:20260422T184123
CREATED:20240223T210328Z
LAST-MODIFIED:20240223T210328Z
UID:10001729-1838392200-1838395800@www.blackhillsinfosec.com
SUMMARY:BHIS Talkin' About Infosec News
DESCRIPTION:
URL:https://www.blackhillsinfosec.com/event/bhis-talkin-about-infosec-news/2028-04-03/
CATEGORIES:Livestream
END:VEVENT
BEGIN:VEVENT
DTSTART;TZID=America/New_York:20280405T120000
DTEND;TZID=America/New_York:20280405T130000
DTSTAMP:20260422T184123
CREATED:20231222T190134Z
LAST-MODIFIED:20240223T210425Z
UID:10001457-1838548800-1838552400@www.blackhillsinfosec.com
SUMMARY:Antisyphon Anticast
DESCRIPTION:
URL:https://www.blackhillsinfosec.com/event/antisyphon-webcast/2028-04-05/
CATEGORIES:Antisyphon Webcast
END:VEVENT
BEGIN:VEVENT
DTSTART;TZID=America/New_York:20280406T130000
DTEND;TZID=America/New_York:20280406T140000
DTSTAMP:20260422T184123
CREATED:20231222T183054Z
LAST-MODIFIED:20250513T164408Z
UID:10001195-1838638800-1838642400@www.blackhillsinfosec.com
SUMMARY:BHIS Webcast
DESCRIPTION:https://poweredbybhis.com/
URL:https://www.blackhillsinfosec.com/event/bhis-webcast-2/2028-04-06/
CATEGORIES:BHIS Webcast
END:VEVENT
BEGIN:VEVENT
DTSTART;TZID=America/New_York:20280410T163000
DTEND;TZID=America/New_York:20280410T173000
DTSTAMP:20260422T184123
CREATED:20240223T210328Z
LAST-MODIFIED:20240223T210328Z
UID:10001730-1838997000-1839000600@www.blackhillsinfosec.com
SUMMARY:BHIS Talkin' About Infosec News
DESCRIPTION:
URL:https://www.blackhillsinfosec.com/event/bhis-talkin-about-infosec-news/2028-04-10/
CATEGORIES:Livestream
END:VEVENT
BEGIN:VEVENT
DTSTART;TZID=America/New_York:20280412T120000
DTEND;TZID=America/New_York:20280412T130000
DTSTAMP:20260422T184123
CREATED:20231222T190134Z
LAST-MODIFIED:20240223T210425Z
UID:10001458-1839153600-1839157200@www.blackhillsinfosec.com
SUMMARY:Antisyphon Anticast
DESCRIPTION:
URL:https://www.blackhillsinfosec.com/event/antisyphon-webcast/2028-04-12/
CATEGORIES:Antisyphon Webcast
END:VEVENT
BEGIN:VEVENT
DTSTART;TZID=America/New_York:20280413T130000
DTEND;TZID=America/New_York:20280413T140000
DTSTAMP:20260422T184123
CREATED:20231222T183054Z
LAST-MODIFIED:20250513T164408Z
UID:10001196-1839243600-1839247200@www.blackhillsinfosec.com
SUMMARY:BHIS Webcast
DESCRIPTION:https://poweredbybhis.com/
URL:https://www.blackhillsinfosec.com/event/bhis-webcast-2/2028-04-13/
CATEGORIES:BHIS Webcast
END:VEVENT
BEGIN:VEVENT
DTSTART;TZID=America/New_York:20280417T163000
DTEND;TZID=America/New_York:20280417T173000
DTSTAMP:20260422T184123
CREATED:20240223T210328Z
LAST-MODIFIED:20240223T210328Z
UID:10001731-1839601800-1839605400@www.blackhillsinfosec.com
SUMMARY:BHIS Talkin' About Infosec News
DESCRIPTION:
URL:https://www.blackhillsinfosec.com/event/bhis-talkin-about-infosec-news/2028-04-17/
CATEGORIES:Livestream
END:VEVENT
BEGIN:VEVENT
DTSTART;TZID=America/New_York:20280419T120000
DTEND;TZID=America/New_York:20280419T130000
DTSTAMP:20260422T184123
CREATED:20231222T190134Z
LAST-MODIFIED:20240223T210425Z
UID:10001459-1839758400-1839762000@www.blackhillsinfosec.com
SUMMARY:Antisyphon Anticast
DESCRIPTION:
URL:https://www.blackhillsinfosec.com/event/antisyphon-webcast/2028-04-19/
CATEGORIES:Antisyphon Webcast
END:VEVENT
BEGIN:VEVENT
DTSTART;TZID=America/New_York:20280420T130000
DTEND;TZID=America/New_York:20280420T140000
DTSTAMP:20260422T184123
CREATED:20231222T183054Z
LAST-MODIFIED:20250513T164408Z
UID:10001197-1839848400-1839852000@www.blackhillsinfosec.com
SUMMARY:BHIS Webcast
DESCRIPTION:https://poweredbybhis.com/
URL:https://www.blackhillsinfosec.com/event/bhis-webcast-2/2028-04-20/
CATEGORIES:BHIS Webcast
END:VEVENT
BEGIN:VEVENT
DTSTART;TZID=America/New_York:20280424T163000
DTEND;TZID=America/New_York:20280424T173000
DTSTAMP:20260422T184123
CREATED:20240223T210328Z
LAST-MODIFIED:20240223T210328Z
UID:10001732-1840206600-1840210200@www.blackhillsinfosec.com
SUMMARY:BHIS Talkin' About Infosec News
DESCRIPTION:
URL:https://www.blackhillsinfosec.com/event/bhis-talkin-about-infosec-news/2028-04-24/
CATEGORIES:Livestream
END:VEVENT
BEGIN:VEVENT
DTSTART;TZID=America/New_York:20280426T120000
DTEND;TZID=America/New_York:20280426T130000
DTSTAMP:20260422T184123
CREATED:20231222T190134Z
LAST-MODIFIED:20240223T210425Z
UID:10001460-1840363200-1840366800@www.blackhillsinfosec.com
SUMMARY:Antisyphon Anticast
DESCRIPTION:
URL:https://www.blackhillsinfosec.com/event/antisyphon-webcast/2028-04-26/
CATEGORIES:Antisyphon Webcast
END:VEVENT
BEGIN:VEVENT
DTSTART;TZID=America/New_York:20280427T130000
DTEND;TZID=America/New_York:20280427T140000
DTSTAMP:20260422T184123
CREATED:20231222T183054Z
LAST-MODIFIED:20250513T164408Z
UID:10001198-1840453200-1840456800@www.blackhillsinfosec.com
SUMMARY:BHIS Webcast
DESCRIPTION:https://poweredbybhis.com/
URL:https://www.blackhillsinfosec.com/event/bhis-webcast-2/2028-04-27/
CATEGORIES:BHIS Webcast
END:VEVENT
BEGIN:VEVENT
DTSTART;TZID=America/New_York:20280501T163000
DTEND;TZID=America/New_York:20280501T173000
DTSTAMP:20260422T184123
CREATED:20240223T210328Z
LAST-MODIFIED:20240223T210328Z
UID:10001733-1840811400-1840815000@www.blackhillsinfosec.com
SUMMARY:BHIS Talkin' About Infosec News
DESCRIPTION:
URL:https://www.blackhillsinfosec.com/event/bhis-talkin-about-infosec-news/2028-05-01/
CATEGORIES:Livestream
END:VEVENT
BEGIN:VEVENT
DTSTART;TZID=America/New_York:20280503T120000
DTEND;TZID=America/New_York:20280503T130000
DTSTAMP:20260422T184123
CREATED:20231222T190134Z
LAST-MODIFIED:20240223T210425Z
UID:10001461-1840968000-1840971600@www.blackhillsinfosec.com
SUMMARY:Antisyphon Anticast
DESCRIPTION:
URL:https://www.blackhillsinfosec.com/event/antisyphon-webcast/2028-05-03/
CATEGORIES:Antisyphon Webcast
END:VEVENT
BEGIN:VEVENT
DTSTART;TZID=America/New_York:20280504T130000
DTEND;TZID=America/New_York:20280504T140000
DTSTAMP:20260422T184123
CREATED:20231222T183054Z
LAST-MODIFIED:20250513T164408Z
UID:10001199-1841058000-1841061600@www.blackhillsinfosec.com
SUMMARY:BHIS Webcast
DESCRIPTION:https://poweredbybhis.com/
URL:https://www.blackhillsinfosec.com/event/bhis-webcast-2/2028-05-04/
CATEGORIES:BHIS Webcast
END:VEVENT
BEGIN:VEVENT
DTSTART;TZID=America/New_York:20280508T163000
DTEND;TZID=America/New_York:20280508T173000
DTSTAMP:20260422T184123
CREATED:20240223T210328Z
LAST-MODIFIED:20240223T210328Z
UID:10001734-1841416200-1841419800@www.blackhillsinfosec.com
SUMMARY:BHIS Talkin' About Infosec News
DESCRIPTION:
URL:https://www.blackhillsinfosec.com/event/bhis-talkin-about-infosec-news/2028-05-08/
CATEGORIES:Livestream
END:VEVENT
BEGIN:VEVENT
DTSTART;TZID=America/New_York:20280510T120000
DTEND;TZID=America/New_York:20280510T130000
DTSTAMP:20260422T184123
CREATED:20231222T190134Z
LAST-MODIFIED:20240223T210425Z
UID:10001462-1841572800-1841576400@www.blackhillsinfosec.com
SUMMARY:Antisyphon Anticast
DESCRIPTION:
URL:https://www.blackhillsinfosec.com/event/antisyphon-webcast/2028-05-10/
CATEGORIES:Antisyphon Webcast
END:VEVENT
BEGIN:VEVENT
DTSTART;TZID=America/New_York:20280511T130000
DTEND;TZID=America/New_York:20280511T140000
DTSTAMP:20260422T184123
CREATED:20231222T183054Z
LAST-MODIFIED:20250513T164408Z
UID:10001200-1841662800-1841666400@www.blackhillsinfosec.com
SUMMARY:BHIS Webcast
DESCRIPTION:https://poweredbybhis.com/
URL:https://www.blackhillsinfosec.com/event/bhis-webcast-2/2028-05-11/
CATEGORIES:BHIS Webcast
END:VEVENT
BEGIN:VEVENT
DTSTART;TZID=America/New_York:20280515T163000
DTEND;TZID=America/New_York:20280515T173000
DTSTAMP:20260422T184123
CREATED:20240223T210328Z
LAST-MODIFIED:20240223T210328Z
UID:10001735-1842021000-1842024600@www.blackhillsinfosec.com
SUMMARY:BHIS Talkin' About Infosec News
DESCRIPTION:
URL:https://www.blackhillsinfosec.com/event/bhis-talkin-about-infosec-news/2028-05-15/
CATEGORIES:Livestream
END:VEVENT
BEGIN:VEVENT
DTSTART;TZID=America/New_York:20280517T120000
DTEND;TZID=America/New_York:20280517T130000
DTSTAMP:20260422T184123
CREATED:20231222T190134Z
LAST-MODIFIED:20240223T210425Z
UID:10001463-1842177600-1842181200@www.blackhillsinfosec.com
SUMMARY:Antisyphon Anticast
DESCRIPTION:
URL:https://www.blackhillsinfosec.com/event/antisyphon-webcast/2028-05-17/
CATEGORIES:Antisyphon Webcast
END:VEVENT
END:VCALENDAR