BEGIN:VCALENDAR
VERSION:2.0
PRODID:-//Black Hills Information Security, Inc. - ECPv6.15.20//NONSGML v1.0//EN
CALSCALE:GREGORIAN
METHOD:PUBLISH
X-WR-CALNAME:Black Hills Information Security, Inc.
X-ORIGINAL-URL:https://www.blackhillsinfosec.com
X-WR-CALDESC:Events for Black Hills Information Security, Inc.
REFRESH-INTERVAL;VALUE=DURATION:PT1H
X-Robots-Tag:noindex
X-PUBLISHED-TTL:PT1H
BEGIN:VTIMEZONE
TZID:America/New_York
BEGIN:DAYLIGHT
TZOFFSETFROM:-0500
TZOFFSETTO:-0400
TZNAME:EDT
DTSTART:20270314T070000
END:DAYLIGHT
BEGIN:STANDARD
TZOFFSETFROM:-0400
TZOFFSETTO:-0500
TZNAME:EST
DTSTART:20271107T060000
END:STANDARD
BEGIN:DAYLIGHT
TZOFFSETFROM:-0500
TZOFFSETTO:-0400
TZNAME:EDT
DTSTART:20280312T070000
END:DAYLIGHT
BEGIN:STANDARD
TZOFFSETFROM:-0400
TZOFFSETTO:-0500
TZNAME:EST
DTSTART:20281105T060000
END:STANDARD
BEGIN:DAYLIGHT
TZOFFSETFROM:-0500
TZOFFSETTO:-0400
TZNAME:EDT
DTSTART:20290311T070000
END:DAYLIGHT
BEGIN:STANDARD
TZOFFSETFROM:-0400
TZOFFSETTO:-0500
TZNAME:EST
DTSTART:20291104T060000
END:STANDARD
END:VTIMEZONE
BEGIN:VTIMEZONE
TZID:America/New_York
BEGIN:DAYLIGHT
TZOFFSETFROM:-0500
TZOFFSETTO:-0400
TZNAME:EDT
DTSTART:20270314T070000
END:DAYLIGHT
BEGIN:STANDARD
TZOFFSETFROM:-0400
TZOFFSETTO:-0500
TZNAME:EST
DTSTART:20271107T060000
END:STANDARD
BEGIN:DAYLIGHT
TZOFFSETFROM:-0500
TZOFFSETTO:-0400
TZNAME:EDT
DTSTART:20280312T070000
END:DAYLIGHT
BEGIN:STANDARD
TZOFFSETFROM:-0400
TZOFFSETTO:-0500
TZNAME:EST
DTSTART:20281105T060000
END:STANDARD
BEGIN:DAYLIGHT
TZOFFSETFROM:-0500
TZOFFSETTO:-0400
TZNAME:EDT
DTSTART:20290311T070000
END:DAYLIGHT
BEGIN:STANDARD
TZOFFSETFROM:-0400
TZOFFSETTO:-0500
TZNAME:EST
DTSTART:20291104T060000
END:STANDARD
END:VTIMEZONE
BEGIN:VEVENT
DTSTART;TZID=America/New_York:20280601T130000
DTEND;TZID=America/New_York:20280601T140000
DTSTAMP:20260423T033730
CREATED:20231222T183054Z
LAST-MODIFIED:20250513T164408Z
UID:10001203-1843477200-1843480800@www.blackhillsinfosec.com
SUMMARY:BHIS Webcast
DESCRIPTION:https://poweredbybhis.com/
URL:https://www.blackhillsinfosec.com/event/bhis-webcast-2/2028-06-01/
CATEGORIES:BHIS Webcast
END:VEVENT
BEGIN:VEVENT
DTSTART;TZID=America/New_York:20280605T163000
DTEND;TZID=America/New_York:20280605T173000
DTSTAMP:20260423T033730
CREATED:20240223T210328Z
LAST-MODIFIED:20240223T210328Z
UID:10001738-1843835400-1843839000@www.blackhillsinfosec.com
SUMMARY:BHIS Talkin' About Infosec News
DESCRIPTION:
URL:https://www.blackhillsinfosec.com/event/bhis-talkin-about-infosec-news/2028-06-05/
CATEGORIES:Livestream
END:VEVENT
BEGIN:VEVENT
DTSTART;TZID=America/New_York:20280607T120000
DTEND;TZID=America/New_York:20280607T130000
DTSTAMP:20260423T033730
CREATED:20231222T190134Z
LAST-MODIFIED:20240223T210425Z
UID:10001466-1843992000-1843995600@www.blackhillsinfosec.com
SUMMARY:Antisyphon Anticast
DESCRIPTION:
URL:https://www.blackhillsinfosec.com/event/antisyphon-webcast/2028-06-07/
CATEGORIES:Antisyphon Webcast
END:VEVENT
BEGIN:VEVENT
DTSTART;TZID=America/New_York:20280608T130000
DTEND;TZID=America/New_York:20280608T140000
DTSTAMP:20260423T033730
CREATED:20231222T183054Z
LAST-MODIFIED:20250513T164408Z
UID:10001204-1844082000-1844085600@www.blackhillsinfosec.com
SUMMARY:BHIS Webcast
DESCRIPTION:https://poweredbybhis.com/
URL:https://www.blackhillsinfosec.com/event/bhis-webcast-2/2028-06-08/
CATEGORIES:BHIS Webcast
END:VEVENT
BEGIN:VEVENT
DTSTART;TZID=America/New_York:20280612T163000
DTEND;TZID=America/New_York:20280612T173000
DTSTAMP:20260423T033730
CREATED:20240223T210328Z
LAST-MODIFIED:20240223T210328Z
UID:10001739-1844440200-1844443800@www.blackhillsinfosec.com
SUMMARY:BHIS Talkin' About Infosec News
DESCRIPTION:
URL:https://www.blackhillsinfosec.com/event/bhis-talkin-about-infosec-news/2028-06-12/
CATEGORIES:Livestream
END:VEVENT
BEGIN:VEVENT
DTSTART;TZID=America/New_York:20280614T120000
DTEND;TZID=America/New_York:20280614T130000
DTSTAMP:20260423T033730
CREATED:20231222T190134Z
LAST-MODIFIED:20240223T210425Z
UID:10001467-1844596800-1844600400@www.blackhillsinfosec.com
SUMMARY:Antisyphon Anticast
DESCRIPTION:
URL:https://www.blackhillsinfosec.com/event/antisyphon-webcast/2028-06-14/
CATEGORIES:Antisyphon Webcast
END:VEVENT
BEGIN:VEVENT
DTSTART;TZID=America/New_York:20280615T130000
DTEND;TZID=America/New_York:20280615T140000
DTSTAMP:20260423T033730
CREATED:20231222T183054Z
LAST-MODIFIED:20250513T164408Z
UID:10001205-1844686800-1844690400@www.blackhillsinfosec.com
SUMMARY:BHIS Webcast
DESCRIPTION:https://poweredbybhis.com/
URL:https://www.blackhillsinfosec.com/event/bhis-webcast-2/2028-06-15/
CATEGORIES:BHIS Webcast
END:VEVENT
BEGIN:VEVENT
DTSTART;TZID=America/New_York:20280619T163000
DTEND;TZID=America/New_York:20280619T173000
DTSTAMP:20260423T033730
CREATED:20240223T210328Z
LAST-MODIFIED:20240223T210328Z
UID:10001740-1845045000-1845048600@www.blackhillsinfosec.com
SUMMARY:BHIS Talkin' About Infosec News
DESCRIPTION:
URL:https://www.blackhillsinfosec.com/event/bhis-talkin-about-infosec-news/2028-06-19/
CATEGORIES:Livestream
END:VEVENT
BEGIN:VEVENT
DTSTART;TZID=America/New_York:20280621T120000
DTEND;TZID=America/New_York:20280621T130000
DTSTAMP:20260423T033730
CREATED:20231222T190134Z
LAST-MODIFIED:20240223T210425Z
UID:10001468-1845201600-1845205200@www.blackhillsinfosec.com
SUMMARY:Antisyphon Anticast
DESCRIPTION:
URL:https://www.blackhillsinfosec.com/event/antisyphon-webcast/2028-06-21/
CATEGORIES:Antisyphon Webcast
END:VEVENT
BEGIN:VEVENT
DTSTART;TZID=America/New_York:20280622T130000
DTEND;TZID=America/New_York:20280622T140000
DTSTAMP:20260423T033730
CREATED:20231222T183054Z
LAST-MODIFIED:20250513T164408Z
UID:10001206-1845291600-1845295200@www.blackhillsinfosec.com
SUMMARY:BHIS Webcast
DESCRIPTION:https://poweredbybhis.com/
URL:https://www.blackhillsinfosec.com/event/bhis-webcast-2/2028-06-22/
CATEGORIES:BHIS Webcast
END:VEVENT
BEGIN:VEVENT
DTSTART;TZID=America/New_York:20280626T163000
DTEND;TZID=America/New_York:20280626T173000
DTSTAMP:20260423T033730
CREATED:20240223T210328Z
LAST-MODIFIED:20240223T210328Z
UID:10001741-1845649800-1845653400@www.blackhillsinfosec.com
SUMMARY:BHIS Talkin' About Infosec News
DESCRIPTION:
URL:https://www.blackhillsinfosec.com/event/bhis-talkin-about-infosec-news/2028-06-26/
CATEGORIES:Livestream
END:VEVENT
BEGIN:VEVENT
DTSTART;TZID=America/New_York:20280628T120000
DTEND;TZID=America/New_York:20280628T130000
DTSTAMP:20260423T033730
CREATED:20231222T190134Z
LAST-MODIFIED:20240223T210425Z
UID:10001469-1845806400-1845810000@www.blackhillsinfosec.com
SUMMARY:Antisyphon Anticast
DESCRIPTION:
URL:https://www.blackhillsinfosec.com/event/antisyphon-webcast/2028-06-28/
CATEGORIES:Antisyphon Webcast
END:VEVENT
BEGIN:VEVENT
DTSTART;TZID=America/New_York:20280629T130000
DTEND;TZID=America/New_York:20280629T140000
DTSTAMP:20260423T033730
CREATED:20231222T183054Z
LAST-MODIFIED:20250513T164408Z
UID:10001207-1845896400-1845900000@www.blackhillsinfosec.com
SUMMARY:BHIS Webcast
DESCRIPTION:https://poweredbybhis.com/
URL:https://www.blackhillsinfosec.com/event/bhis-webcast-2/2028-06-29/
CATEGORIES:BHIS Webcast
END:VEVENT
BEGIN:VEVENT
DTSTART;TZID=America/New_York:20280703T163000
DTEND;TZID=America/New_York:20280703T173000
DTSTAMP:20260423T033730
CREATED:20240223T210328Z
LAST-MODIFIED:20240223T210328Z
UID:10001742-1846254600-1846258200@www.blackhillsinfosec.com
SUMMARY:BHIS Talkin' About Infosec News
DESCRIPTION:
URL:https://www.blackhillsinfosec.com/event/bhis-talkin-about-infosec-news/2028-07-03/
CATEGORIES:Livestream
END:VEVENT
BEGIN:VEVENT
DTSTART;TZID=America/New_York:20280705T120000
DTEND;TZID=America/New_York:20280705T130000
DTSTAMP:20260423T033730
CREATED:20231222T190134Z
LAST-MODIFIED:20240223T210425Z
UID:10001470-1846411200-1846414800@www.blackhillsinfosec.com
SUMMARY:Antisyphon Anticast
DESCRIPTION:
URL:https://www.blackhillsinfosec.com/event/antisyphon-webcast/2028-07-05/
CATEGORIES:Antisyphon Webcast
END:VEVENT
BEGIN:VEVENT
DTSTART;TZID=America/New_York:20280706T130000
DTEND;TZID=America/New_York:20280706T140000
DTSTAMP:20260423T033730
CREATED:20231222T183054Z
LAST-MODIFIED:20250513T164408Z
UID:10001208-1846501200-1846504800@www.blackhillsinfosec.com
SUMMARY:BHIS Webcast
DESCRIPTION:https://poweredbybhis.com/
URL:https://www.blackhillsinfosec.com/event/bhis-webcast-2/2028-07-06/
CATEGORIES:BHIS Webcast
END:VEVENT
BEGIN:VEVENT
DTSTART;TZID=America/New_York:20280710T163000
DTEND;TZID=America/New_York:20280710T173000
DTSTAMP:20260423T033730
CREATED:20240223T210328Z
LAST-MODIFIED:20240223T210328Z
UID:10001743-1846859400-1846863000@www.blackhillsinfosec.com
SUMMARY:BHIS Talkin' About Infosec News
DESCRIPTION:
URL:https://www.blackhillsinfosec.com/event/bhis-talkin-about-infosec-news/2028-07-10/
CATEGORIES:Livestream
END:VEVENT
BEGIN:VEVENT
DTSTART;TZID=America/New_York:20280712T120000
DTEND;TZID=America/New_York:20280712T130000
DTSTAMP:20260423T033730
CREATED:20231222T190134Z
LAST-MODIFIED:20240223T210425Z
UID:10001471-1847016000-1847019600@www.blackhillsinfosec.com
SUMMARY:Antisyphon Anticast
DESCRIPTION:
URL:https://www.blackhillsinfosec.com/event/antisyphon-webcast/2028-07-12/
CATEGORIES:Antisyphon Webcast
END:VEVENT
BEGIN:VEVENT
DTSTART;TZID=America/New_York:20280713T130000
DTEND;TZID=America/New_York:20280713T140000
DTSTAMP:20260423T033730
CREATED:20231222T183054Z
LAST-MODIFIED:20250513T164408Z
UID:10001209-1847106000-1847109600@www.blackhillsinfosec.com
SUMMARY:BHIS Webcast
DESCRIPTION:https://poweredbybhis.com/
URL:https://www.blackhillsinfosec.com/event/bhis-webcast-2/2028-07-13/
CATEGORIES:BHIS Webcast
END:VEVENT
BEGIN:VEVENT
DTSTART;TZID=America/New_York:20280717T163000
DTEND;TZID=America/New_York:20280717T173000
DTSTAMP:20260423T033730
CREATED:20240223T210328Z
LAST-MODIFIED:20240223T210328Z
UID:10001744-1847464200-1847467800@www.blackhillsinfosec.com
SUMMARY:BHIS Talkin' About Infosec News
DESCRIPTION:
URL:https://www.blackhillsinfosec.com/event/bhis-talkin-about-infosec-news/2028-07-17/
CATEGORIES:Livestream
END:VEVENT
BEGIN:VEVENT
DTSTART;TZID=America/New_York:20280719T120000
DTEND;TZID=America/New_York:20280719T130000
DTSTAMP:20260423T033730
CREATED:20231222T190134Z
LAST-MODIFIED:20240223T210425Z
UID:10001472-1847620800-1847624400@www.blackhillsinfosec.com
SUMMARY:Antisyphon Anticast
DESCRIPTION:
URL:https://www.blackhillsinfosec.com/event/antisyphon-webcast/2028-07-19/
CATEGORIES:Antisyphon Webcast
END:VEVENT
BEGIN:VEVENT
DTSTART;TZID=America/New_York:20280720T130000
DTEND;TZID=America/New_York:20280720T140000
DTSTAMP:20260423T033730
CREATED:20231222T183054Z
LAST-MODIFIED:20250513T164408Z
UID:10001210-1847710800-1847714400@www.blackhillsinfosec.com
SUMMARY:BHIS Webcast
DESCRIPTION:https://poweredbybhis.com/
URL:https://www.blackhillsinfosec.com/event/bhis-webcast-2/2028-07-20/
CATEGORIES:BHIS Webcast
END:VEVENT
BEGIN:VEVENT
DTSTART;TZID=America/New_York:20280724T163000
DTEND;TZID=America/New_York:20280724T173000
DTSTAMP:20260423T033730
CREATED:20240223T210328Z
LAST-MODIFIED:20240223T210328Z
UID:10001745-1848069000-1848072600@www.blackhillsinfosec.com
SUMMARY:BHIS Talkin' About Infosec News
DESCRIPTION:
URL:https://www.blackhillsinfosec.com/event/bhis-talkin-about-infosec-news/2028-07-24/
CATEGORIES:Livestream
END:VEVENT
BEGIN:VEVENT
DTSTART;TZID=America/New_York:20280726T120000
DTEND;TZID=America/New_York:20280726T130000
DTSTAMP:20260423T033730
CREATED:20231222T190134Z
LAST-MODIFIED:20240223T210425Z
UID:10001473-1848225600-1848229200@www.blackhillsinfosec.com
SUMMARY:Antisyphon Anticast
DESCRIPTION:
URL:https://www.blackhillsinfosec.com/event/antisyphon-webcast/2028-07-26/
CATEGORIES:Antisyphon Webcast
END:VEVENT
BEGIN:VEVENT
DTSTART;TZID=America/New_York:20280727T130000
DTEND;TZID=America/New_York:20280727T140000
DTSTAMP:20260423T033730
CREATED:20231222T183054Z
LAST-MODIFIED:20250513T164408Z
UID:10001211-1848315600-1848319200@www.blackhillsinfosec.com
SUMMARY:BHIS Webcast
DESCRIPTION:https://poweredbybhis.com/
URL:https://www.blackhillsinfosec.com/event/bhis-webcast-2/2028-07-27/
CATEGORIES:BHIS Webcast
END:VEVENT
BEGIN:VEVENT
DTSTART;TZID=America/New_York:20280731T163000
DTEND;TZID=America/New_York:20280731T173000
DTSTAMP:20260423T033730
CREATED:20240223T210328Z
LAST-MODIFIED:20240223T210328Z
UID:10001746-1848673800-1848677400@www.blackhillsinfosec.com
SUMMARY:BHIS Talkin' About Infosec News
DESCRIPTION:
URL:https://www.blackhillsinfosec.com/event/bhis-talkin-about-infosec-news/2028-07-31/
CATEGORIES:Livestream
END:VEVENT
BEGIN:VEVENT
DTSTART;TZID=America/New_York:20280802T120000
DTEND;TZID=America/New_York:20280802T130000
DTSTAMP:20260423T033730
CREATED:20231222T190134Z
LAST-MODIFIED:20240223T210425Z
UID:10001474-1848830400-1848834000@www.blackhillsinfosec.com
SUMMARY:Antisyphon Anticast
DESCRIPTION:
URL:https://www.blackhillsinfosec.com/event/antisyphon-webcast/2028-08-02/
CATEGORIES:Antisyphon Webcast
END:VEVENT
BEGIN:VEVENT
DTSTART;TZID=America/New_York:20280803T130000
DTEND;TZID=America/New_York:20280803T140000
DTSTAMP:20260423T033730
CREATED:20231222T183054Z
LAST-MODIFIED:20250513T164408Z
UID:10001212-1848920400-1848924000@www.blackhillsinfosec.com
SUMMARY:BHIS Webcast
DESCRIPTION:https://poweredbybhis.com/
URL:https://www.blackhillsinfosec.com/event/bhis-webcast-2/2028-08-03/
CATEGORIES:BHIS Webcast
END:VEVENT
BEGIN:VEVENT
DTSTART;TZID=America/New_York:20280807T163000
DTEND;TZID=America/New_York:20280807T173000
DTSTAMP:20260423T033730
CREATED:20240223T210328Z
LAST-MODIFIED:20240223T210328Z
UID:10001747-1849278600-1849282200@www.blackhillsinfosec.com
SUMMARY:BHIS Talkin' About Infosec News
DESCRIPTION:
URL:https://www.blackhillsinfosec.com/event/bhis-talkin-about-infosec-news/2028-08-07/
CATEGORIES:Livestream
END:VEVENT
BEGIN:VEVENT
DTSTART;TZID=America/New_York:20280809T120000
DTEND;TZID=America/New_York:20280809T130000
DTSTAMP:20260423T033730
CREATED:20231222T190134Z
LAST-MODIFIED:20240223T210425Z
UID:10001475-1849435200-1849438800@www.blackhillsinfosec.com
SUMMARY:Antisyphon Anticast
DESCRIPTION:
URL:https://www.blackhillsinfosec.com/event/antisyphon-webcast/2028-08-09/
CATEGORIES:Antisyphon Webcast
END:VEVENT
END:VCALENDAR