BEGIN:VCALENDAR
VERSION:2.0
PRODID:-//Black Hills Information Security, Inc. - ECPv6.15.20//NONSGML v1.0//EN
CALSCALE:GREGORIAN
METHOD:PUBLISH
X-ORIGINAL-URL:https://www.blackhillsinfosec.com
X-WR-CALDESC:Events for Black Hills Information Security, Inc.
REFRESH-INTERVAL;VALUE=DURATION:PT1H
X-Robots-Tag:noindex
X-PUBLISHED-TTL:PT1H
BEGIN:VTIMEZONE
TZID:America/New_York
BEGIN:DAYLIGHT
TZOFFSETFROM:-0500
TZOFFSETTO:-0400
TZNAME:EDT
DTSTART:20250309T070000
END:DAYLIGHT
BEGIN:STANDARD
TZOFFSETFROM:-0400
TZOFFSETTO:-0500
TZNAME:EST
DTSTART:20251102T060000
END:STANDARD
BEGIN:DAYLIGHT
TZOFFSETFROM:-0500
TZOFFSETTO:-0400
TZNAME:EDT
DTSTART:20260308T070000
END:DAYLIGHT
BEGIN:STANDARD
TZOFFSETFROM:-0400
TZOFFSETTO:-0500
TZNAME:EST
DTSTART:20261101T060000
END:STANDARD
BEGIN:DAYLIGHT
TZOFFSETFROM:-0500
TZOFFSETTO:-0400
TZNAME:EDT
DTSTART:20270314T070000
END:DAYLIGHT
BEGIN:STANDARD
TZOFFSETFROM:-0400
TZOFFSETTO:-0500
TZNAME:EST
DTSTART:20271107T060000
END:STANDARD
END:VTIMEZONE
BEGIN:VTIMEZONE
TZID:America/New_York
BEGIN:DAYLIGHT
TZOFFSETFROM:-0500
TZOFFSETTO:-0400
TZNAME:EDT
DTSTART:20250309T070000
END:DAYLIGHT
BEGIN:STANDARD
TZOFFSETFROM:-0400
TZOFFSETTO:-0500
TZNAME:EST
DTSTART:20251102T060000
END:STANDARD
BEGIN:DAYLIGHT
TZOFFSETFROM:-0500
TZOFFSETTO:-0400
TZNAME:EDT
DTSTART:20260308T070000
END:DAYLIGHT
BEGIN:STANDARD
TZOFFSETFROM:-0400
TZOFFSETTO:-0500
TZNAME:EST
DTSTART:20261101T060000
END:STANDARD
BEGIN:DAYLIGHT
TZOFFSETFROM:-0500
TZOFFSETTO:-0400
TZNAME:EDT
DTSTART:20270314T070000
END:DAYLIGHT
BEGIN:STANDARD
TZOFFSETFROM:-0400
TZOFFSETTO:-0500
TZNAME:EST
DTSTART:20271107T060000
END:STANDARD
END:VTIMEZONE
BEGIN:VEVENT
DTSTART;TZID=America/New_York:20261001T130000
DTEND;TZID=America/New_York:20261001T140000
DTSTAMP:20260424T140425
CREATED:20231222T183054Z
LAST-MODIFIED:20250513T164408Z
UID:10001116-1790859600-1790863200@www.blackhillsinfosec.com
SUMMARY:BHIS Webcast
DESCRIPTION:https://poweredbybhis.com/
URL:https://www.blackhillsinfosec.com/event/bhis-webcast-2/2026-10-01/
LOCATION:MD
CATEGORIES:BHIS Webcast
END:VEVENT
BEGIN:VEVENT
DTSTART;TZID=America/New_York:20261005T163000
DTEND;TZID=America/New_York:20261005T173000
DTSTAMP:20260424T140425
CREATED:20240223T210328Z
LAST-MODIFIED:20240223T210328Z
UID:10001651-1791217800-1791221400@www.blackhillsinfosec.com
SUMMARY:BHIS Talkin' About Infosec News
DESCRIPTION:
URL:https://www.blackhillsinfosec.com/event/bhis-talkin-about-infosec-news/2026-10-05/
LOCATION:MD
CATEGORIES:Livestream
END:VEVENT
BEGIN:VEVENT
DTSTART;TZID=America/New_York:20261007T120000
DTEND;TZID=America/New_York:20261007T130000
DTSTAMP:20260424T140425
CREATED:20231222T190134Z
LAST-MODIFIED:20240223T210425Z
UID:10001379-1791374400-1791378000@www.blackhillsinfosec.com
SUMMARY:Antisyphon Anticast
DESCRIPTION:
URL:https://www.blackhillsinfosec.com/event/antisyphon-webcast/2026-10-07/
LOCATION:MD
CATEGORIES:Antisyphon Webcast
END:VEVENT
BEGIN:VEVENT
DTSTART;TZID=America/New_York:20261008T130000
DTEND;TZID=America/New_York:20261008T140000
DTSTAMP:20260424T140425
CREATED:20231222T183054Z
LAST-MODIFIED:20250513T164408Z
UID:10001117-1791464400-1791468000@www.blackhillsinfosec.com
SUMMARY:BHIS Webcast
DESCRIPTION:https://poweredbybhis.com/
URL:https://www.blackhillsinfosec.com/event/bhis-webcast-2/2026-10-08/
LOCATION:MD
CATEGORIES:BHIS Webcast
END:VEVENT
BEGIN:VEVENT
DTSTART;TZID=America/New_York:20261012T163000
DTEND;TZID=America/New_York:20261012T173000
DTSTAMP:20260424T140425
CREATED:20240223T210328Z
LAST-MODIFIED:20240223T210328Z
UID:10001652-1791822600-1791826200@www.blackhillsinfosec.com
SUMMARY:BHIS Talkin' About Infosec News
DESCRIPTION:
URL:https://www.blackhillsinfosec.com/event/bhis-talkin-about-infosec-news/2026-10-12/
LOCATION:MD
CATEGORIES:Livestream
END:VEVENT
BEGIN:VEVENT
DTSTART;TZID=America/New_York:20261014T120000
DTEND;TZID=America/New_York:20261014T130000
DTSTAMP:20260424T140425
CREATED:20231222T190134Z
LAST-MODIFIED:20240223T210425Z
UID:10001380-1791979200-1791982800@www.blackhillsinfosec.com
SUMMARY:Antisyphon Anticast
DESCRIPTION:
URL:https://www.blackhillsinfosec.com/event/antisyphon-webcast/2026-10-14/
LOCATION:MD
CATEGORIES:Antisyphon Webcast
END:VEVENT
BEGIN:VEVENT
DTSTART;TZID=America/New_York:20261015T130000
DTEND;TZID=America/New_York:20261015T140000
DTSTAMP:20260424T140425
CREATED:20231222T183054Z
LAST-MODIFIED:20250513T164408Z
UID:10001118-1792069200-1792072800@www.blackhillsinfosec.com
SUMMARY:BHIS Webcast
DESCRIPTION:https://poweredbybhis.com/
URL:https://www.blackhillsinfosec.com/event/bhis-webcast-2/2026-10-15/
LOCATION:MD
CATEGORIES:BHIS Webcast
END:VEVENT
BEGIN:VEVENT
DTSTART;TZID=America/New_York:20261019T163000
DTEND;TZID=America/New_York:20261019T173000
DTSTAMP:20260424T140425
CREATED:20240223T210328Z
LAST-MODIFIED:20240223T210328Z
UID:10001653-1792427400-1792431000@www.blackhillsinfosec.com
SUMMARY:BHIS Talkin' About Infosec News
DESCRIPTION:
URL:https://www.blackhillsinfosec.com/event/bhis-talkin-about-infosec-news/2026-10-19/
LOCATION:MD
CATEGORIES:Livestream
END:VEVENT
BEGIN:VEVENT
DTSTART;TZID=America/New_York:20261021T120000
DTEND;TZID=America/New_York:20261021T130000
DTSTAMP:20260424T140425
CREATED:20231222T190134Z
LAST-MODIFIED:20240223T210425Z
UID:10001381-1792584000-1792587600@www.blackhillsinfosec.com
SUMMARY:Antisyphon Anticast
DESCRIPTION:
URL:https://www.blackhillsinfosec.com/event/antisyphon-webcast/2026-10-21/
LOCATION:MD
CATEGORIES:Antisyphon Webcast
END:VEVENT
BEGIN:VEVENT
DTSTART;TZID=America/New_York:20261022T130000
DTEND;TZID=America/New_York:20261022T140000
DTSTAMP:20260424T140425
CREATED:20231222T183054Z
LAST-MODIFIED:20250513T164408Z
UID:10001119-1792674000-1792677600@www.blackhillsinfosec.com
SUMMARY:BHIS Webcast
DESCRIPTION:https://poweredbybhis.com/
URL:https://www.blackhillsinfosec.com/event/bhis-webcast-2/2026-10-22/
LOCATION:MD
CATEGORIES:BHIS Webcast
END:VEVENT
BEGIN:VEVENT
DTSTART;TZID=America/New_York:20261026T163000
DTEND;TZID=America/New_York:20261026T173000
DTSTAMP:20260424T140425
CREATED:20240223T210328Z
LAST-MODIFIED:20240223T210328Z
UID:10001654-1793032200-1793035800@www.blackhillsinfosec.com
SUMMARY:BHIS Talkin' About Infosec News
DESCRIPTION:
URL:https://www.blackhillsinfosec.com/event/bhis-talkin-about-infosec-news/2026-10-26/
LOCATION:MD
CATEGORIES:Livestream
END:VEVENT
BEGIN:VEVENT
DTSTART;TZID=America/New_York:20261028T120000
DTEND;TZID=America/New_York:20261028T130000
DTSTAMP:20260424T140425
CREATED:20231222T190134Z
LAST-MODIFIED:20240223T210425Z
UID:10001382-1793188800-1793192400@www.blackhillsinfosec.com
SUMMARY:Antisyphon Anticast
DESCRIPTION:
URL:https://www.blackhillsinfosec.com/event/antisyphon-webcast/2026-10-28/
LOCATION:MD
CATEGORIES:Antisyphon Webcast
END:VEVENT
BEGIN:VEVENT
DTSTART;TZID=America/New_York:20261029T130000
DTEND;TZID=America/New_York:20261029T140000
DTSTAMP:20260424T140425
CREATED:20231222T183054Z
LAST-MODIFIED:20250513T164408Z
UID:10001120-1793278800-1793282400@www.blackhillsinfosec.com
SUMMARY:BHIS Webcast
DESCRIPTION:https://poweredbybhis.com/
URL:https://www.blackhillsinfosec.com/event/bhis-webcast-2/2026-10-29/
LOCATION:MD
CATEGORIES:BHIS Webcast
END:VEVENT
END:VCALENDAR